BEGIN:VCALENDAR
VERSION:2.0
PRODID:-//St. Ignace Public Library - ECPv6.15.20//NONSGML v1.0//EN
CALSCALE:GREGORIAN
METHOD:PUBLISH
X-WR-CALNAME:St. Ignace Public Library
X-ORIGINAL-URL:https://stignacelibrary.org
X-WR-CALDESC:Events for St. Ignace Public Library
REFRESH-INTERVAL;VALUE=DURATION:PT1H
X-Robots-Tag:noindex
X-PUBLISHED-TTL:PT1H
BEGIN:VTIMEZONE
TZID:America/New_York
BEGIN:DAYLIGHT
TZOFFSETFROM:-0500
TZOFFSETTO:-0400
TZNAME:EDT
DTSTART:20220313T070000
END:DAYLIGHT
BEGIN:STANDARD
TZOFFSETFROM:-0400
TZOFFSETTO:-0500
TZNAME:EST
DTSTART:20221106T060000
END:STANDARD
BEGIN:DAYLIGHT
TZOFFSETFROM:-0500
TZOFFSETTO:-0400
TZNAME:EDT
DTSTART:20230312T070000
END:DAYLIGHT
BEGIN:STANDARD
TZOFFSETFROM:-0400
TZOFFSETTO:-0500
TZNAME:EST
DTSTART:20231105T060000
END:STANDARD
BEGIN:DAYLIGHT
TZOFFSETFROM:-0500
TZOFFSETTO:-0400
TZNAME:EDT
DTSTART:20240310T070000
END:DAYLIGHT
BEGIN:STANDARD
TZOFFSETFROM:-0400
TZOFFSETTO:-0500
TZNAME:EST
DTSTART:20241103T060000
END:STANDARD
BEGIN:DAYLIGHT
TZOFFSETFROM:-0500
TZOFFSETTO:-0400
TZNAME:EDT
DTSTART:20250309T070000
END:DAYLIGHT
BEGIN:STANDARD
TZOFFSETFROM:-0400
TZOFFSETTO:-0500
TZNAME:EST
DTSTART:20251102T060000
END:STANDARD
BEGIN:DAYLIGHT
TZOFFSETFROM:-0500
TZOFFSETTO:-0400
TZNAME:EDT
DTSTART:20260308T070000
END:DAYLIGHT
BEGIN:STANDARD
TZOFFSETFROM:-0400
TZOFFSETTO:-0500
TZNAME:EST
DTSTART:20261101T060000
END:STANDARD
BEGIN:DAYLIGHT
TZOFFSETFROM:-0500
TZOFFSETTO:-0400
TZNAME:EDT
DTSTART:20270314T070000
END:DAYLIGHT
BEGIN:STANDARD
TZOFFSETFROM:-0400
TZOFFSETTO:-0500
TZNAME:EST
DTSTART:20271107T060000
END:STANDARD
END:VTIMEZONE
BEGIN:VEVENT
DTSTART;TZID=America/New_York:20260418T110000
DTEND;TZID=America/New_York:20260418T120000
DTSTAMP:20260421T155111
CREATED:20260302T155340Z
LAST-MODIFIED:20260302T155340Z
UID:7613-1776510000-1776513600@stignacelibrary.org
SUMMARY:Smart Money Kids Program
DESCRIPTION:Learn about spending. Free book to take home!
URL:https://stignacelibrary.org/event/smart-money-kids-program/
CATEGORIES:Children's Program
END:VEVENT
BEGIN:VEVENT
DTSTART;TZID=America/New_York:20260401T130000
DTEND;TZID=America/New_York:20260401T150000
DTSTAMP:20260421T155111
CREATED:20260302T155930Z
LAST-MODIFIED:20260302T155930Z
UID:7621-1775048400-1775055600@stignacelibrary.org
SUMMARY:Spring Break Program
DESCRIPTION:Make & Take crafts
URL:https://stignacelibrary.org/event/spring-break-program-3/
CATEGORIES:Children's Program
END:VEVENT
BEGIN:VEVENT
DTSTART;TZID=America/New_York:20260207T103000
DTEND;TZID=America/New_York:20260207T170000
DTSTAMP:20260421T155111
CREATED:20251203T192651Z
LAST-MODIFIED:20251203T192651Z
UID:7479-1770460200-1770483600@stignacelibrary.org
SUMMARY:Winter Olympics party
DESCRIPTION:Children’s event
URL:https://stignacelibrary.org/event/winter-olympics-party/
CATEGORIES:Children's Program
END:VEVENT
BEGIN:VEVENT
DTSTART;TZID=America/New_York:20260117T103000
DTEND;TZID=America/New_York:20260117T170000
DTSTAMP:20260421T155111
CREATED:20251203T193950Z
LAST-MODIFIED:20251203T193950Z
UID:7483-1768645800-1768669200@stignacelibrary.org
SUMMARY:Stuffie sleepover pick up party
DESCRIPTION:
URL:https://stignacelibrary.org/event/stuffie-sleepover-pick-up-party/
CATEGORIES:Children's Program
END:VEVENT
BEGIN:VEVENT
DTSTART;TZID=America/New_York:20260116T100000
DTEND;TZID=America/New_York:20260116T170000
DTSTAMP:20260421T155111
CREATED:20251203T193805Z
LAST-MODIFIED:20251203T193805Z
UID:7481-1768557600-1768582800@stignacelibrary.org
SUMMARY:Stuffie Sleep Over
DESCRIPTION:Drop off your stuffed animal for a sleep over.
URL:https://stignacelibrary.org/event/stuffie-sleep-over/
CATEGORIES:Children's Program
END:VEVENT
BEGIN:VEVENT
DTSTART;TZID=America/New_York:20251108T103000
DTEND;TZID=America/New_York:20251108T120000
DTSTAMP:20260421T155111
CREATED:20250903T201632Z
LAST-MODIFIED:20250903T201632Z
UID:7321-1762597800-1762603200@stignacelibrary.org
SUMMARY:Tape Town
DESCRIPTION:The  community room has been turned into a city. Cruise our toy cars around. Drivers licenses provided
URL:https://stignacelibrary.org/event/tape-town/
CATEGORIES:Children's Program
END:VEVENT
BEGIN:VEVENT
DTSTART;TZID=America/New_York:20251031T150000
DTEND;TZID=America/New_York:20251031T170000
DTSTAMP:20260421T155111
CREATED:20250829T160049Z
LAST-MODIFIED:20250829T160049Z
UID:7297-1761922800-1761930000@stignacelibrary.org
SUMMARY:Halloween Craft or Treat
DESCRIPTION:
URL:https://stignacelibrary.org/event/halloween-craft-or-treat/
CATEGORIES:Children's Program
END:VEVENT
BEGIN:VEVENT
DTSTART;TZID=America/New_York:20250920T103000
DTEND;TZID=America/New_York:20250920T103000
DTSTAMP:20260421T155111
CREATED:20250903T195253Z
LAST-MODIFIED:20250903T195253Z
UID:7313-1758364200-1758364200@stignacelibrary.org
SUMMARY:Saturday Storytime
DESCRIPTION:
URL:https://stignacelibrary.org/event/saturday-storytime/
CATEGORIES:Children's Program
END:VEVENT
BEGIN:VEVENT
DTSTART;TZID=America/New_York:20250326T130000
DTEND;TZID=America/New_York:20250326T150000
DTSTAMP:20260421T155111
CREATED:20250303T183209Z
LAST-MODIFIED:20250303T183209Z
UID:6986-1742994000-1743001200@stignacelibrary.org
SUMMARY:Spring Break
DESCRIPTION:Movie Day. The wild Robot. Root beer floats and Popcorn.
URL:https://stignacelibrary.org/event/spring-break-3/
CATEGORIES:Children's Program
END:VEVENT
BEGIN:VEVENT
DTSTART;TZID=America/New_York:20241005T130000
DTEND;TZID=America/New_York:20241005T143000
DTSTAMP:20260421T155111
CREATED:20240911T185006Z
LAST-MODIFIED:20240911T185006Z
UID:6702-1728133200-1728138600@stignacelibrary.org
SUMMARY:K-6 Art Class
DESCRIPTION:St. Ignace Arts Council Presents Michelangelo soap Carving
URL:https://stignacelibrary.org/event/k-6-art-class/
CATEGORIES:Children's Program
END:VEVENT
BEGIN:VEVENT
DTSTART;TZID=America/New_York:20240809T110000
DTEND;TZID=America/New_York:20240809T110000
DTSTAMP:20260421T155111
CREATED:20240724T190406Z
LAST-MODIFIED:20240724T190406Z
UID:6622-1723201200-1723201200@stignacelibrary.org
SUMMARY:End of Summer Reading Program Fun and Games
DESCRIPTION:Join us for the celebration
URL:https://stignacelibrary.org/event/end-of-summer-reading-program-fun-and-games/
CATEGORIES:Children's Program
END:VEVENT
BEGIN:VEVENT
DTSTART;TZID=America/New_York:20240516T153000
DTEND;TZID=America/New_York:20240516T163000
DTSTAMP:20260421T155111
CREATED:20240329T152351Z
LAST-MODIFIED:20240329T152351Z
UID:6454-1715873400-1715877000@stignacelibrary.org
SUMMARY:Family Story Time
DESCRIPTION:Gardens & Growing
URL:https://stignacelibrary.org/event/family-story-time-2/
CATEGORIES:Children's Program
END:VEVENT
BEGIN:VEVENT
DTSTART;TZID=America/New_York:20240425T153000
DTEND;TZID=America/New_York:20240425T163000
DTSTAMP:20260421T155111
CREATED:20240329T152200Z
LAST-MODIFIED:20240329T152200Z
UID:6452-1714059000-1714062600@stignacelibrary.org
SUMMARY:Family Story Time
DESCRIPTION:Building & Architecture
URL:https://stignacelibrary.org/event/family-story-time/
CATEGORIES:Children's Program
END:VEVENT
BEGIN:VEVENT
DTSTART;TZID=America/New_York:20240217T130000
DTEND;TZID=America/New_York:20240217T143000
DTSTAMP:20260421T155111
CREATED:20231204T182449Z
LAST-MODIFIED:20231204T182449Z
UID:6270-1708174800-1708180200@stignacelibrary.org
SUMMARY:Art Class
DESCRIPTION:St. Ignace Arts Council Presents: Arts for everyone ages k-6th grade taught by local artists. 
URL:https://stignacelibrary.org/event/art-class/
CATEGORIES:Children's Program,School Age
END:VEVENT
BEGIN:VEVENT
DTSTART;TZID=America/New_York:20231215T103000
DTEND;TZID=America/New_York:20231215T113000
DTSTAMP:20260421T155111
CREATED:20231027T193217Z
LAST-MODIFIED:20231027T193217Z
UID:6214-1702636200-1702639800@stignacelibrary.org
SUMMARY:Story Hour
DESCRIPTION:Weekly preschool library time for the youngest learners. Enjoy great stories\, activities and social time!
URL:https://stignacelibrary.org/event/story-hour-11/
CATEGORIES:Children's Program
ATTACH;FMTTYPE=image/png:https://stignacelibrary.org/wp-content/uploads/2023/10/Untitled-design-39.png
END:VEVENT
BEGIN:VEVENT
DTSTART;TZID=America/New_York:20231208T103000
DTEND;TZID=America/New_York:20231208T113000
DTSTAMP:20260421T155111
CREATED:20231027T193052Z
LAST-MODIFIED:20231027T193059Z
UID:6212-1702031400-1702035000@stignacelibrary.org
SUMMARY:Story Hour
DESCRIPTION:Weekly preschool library time for the youngest learners. Enjoy great stories\, activities and social time!
URL:https://stignacelibrary.org/event/story-hour-10/
CATEGORIES:Children's Program
ATTACH;FMTTYPE=image/png:https://stignacelibrary.org/wp-content/uploads/2023/10/Untitled-design-39.png
END:VEVENT
BEGIN:VEVENT
DTSTART;TZID=America/New_York:20231201T103000
DTEND;TZID=America/New_York:20231201T113000
DTSTAMP:20260421T155111
CREATED:20231027T192700Z
LAST-MODIFIED:20231027T192923Z
UID:6210-1701426600-1701430200@stignacelibrary.org
SUMMARY:Story Hour
DESCRIPTION:Weekly preschool library time for the youngest learners. Enjoy great stories\, activities and social time!
URL:https://stignacelibrary.org/event/story-hour-9/
CATEGORIES:Children's Program
ATTACH;FMTTYPE=image/png:https://stignacelibrary.org/wp-content/uploads/2023/10/Untitled-design-39.png
END:VEVENT
BEGIN:VEVENT
DTSTART;TZID=America/New_York:20231117T103000
DTEND;TZID=America/New_York:20231117T113000
DTSTAMP:20260421T155111
CREATED:20231027T193457Z
LAST-MODIFIED:20231027T193457Z
UID:6216-1700217000-1700220600@stignacelibrary.org
SUMMARY:Story Hour
DESCRIPTION:Weekly preschool library time for the youngest learners. Enjoy great stories\, activities and social time!
URL:https://stignacelibrary.org/event/story-hour-12/
CATEGORIES:Children's Program
ATTACH;FMTTYPE=image/png:https://stignacelibrary.org/wp-content/uploads/2023/10/Untitled-design-39.png
END:VEVENT
BEGIN:VEVENT
DTSTART;TZID=America/New_York:20231110T103000
DTEND;TZID=America/New_York:20231110T233000
DTSTAMP:20260421T155111
CREATED:20231027T190734Z
LAST-MODIFIED:20231027T191419Z
UID:6201-1699612200-1699659000@stignacelibrary.org
SUMMARY:Story Hour
DESCRIPTION:Weekly preschool library time for the youngest learners. Enjoy great stories\, activities and social time!
URL:https://stignacelibrary.org/event/story-hour-8/
CATEGORIES:Children's Program
ATTACH;FMTTYPE=image/png:https://stignacelibrary.org/wp-content/uploads/2023/10/Untitled-design-39.png
END:VEVENT
BEGIN:VEVENT
DTSTART;TZID=America/New_York:20231103T103000
DTEND;TZID=America/New_York:20231103T113000
DTSTAMP:20260421T155111
CREATED:20231027T184401Z
LAST-MODIFIED:20231027T185200Z
UID:6196-1699007400-1699011000@stignacelibrary.org
SUMMARY:Story Hour
DESCRIPTION:Weekly preschool library time for the youngest learners. Enjoy great stories\, activities and social time!
URL:https://stignacelibrary.org/event/story-hour-7/
CATEGORIES:Children's Program
END:VEVENT
BEGIN:VEVENT
DTSTART;TZID=America/New_York:20230527T103000
DTEND;TZID=America/New_York:20230527T113000
DTSTAMP:20260421T155111
CREATED:20230303T213132Z
LAST-MODIFIED:20230303T213132Z
UID:5747-1685183400-1685187000@stignacelibrary.org
SUMMARY:Toddler Talk and Play
DESCRIPTION:
URL:https://stignacelibrary.org/event/toddler-talk-and-play-9/
CATEGORIES:Children's Program
END:VEVENT
BEGIN:VEVENT
DTSTART;TZID=America/New_York:20230520T103000
DTEND;TZID=America/New_York:20230520T113000
DTSTAMP:20260421T155111
CREATED:20230303T213023Z
LAST-MODIFIED:20230303T213023Z
UID:5745-1684578600-1684582200@stignacelibrary.org
SUMMARY:Toddler Talk & Play
DESCRIPTION:
URL:https://stignacelibrary.org/event/toddler-talk-play-36/
CATEGORIES:Children's Program
END:VEVENT
BEGIN:VEVENT
DTSTART;TZID=America/New_York:20230513T103000
DTEND;TZID=America/New_York:20230513T113000
DTSTAMP:20260421T155111
CREATED:20230303T212940Z
LAST-MODIFIED:20230303T212940Z
UID:5743-1683973800-1683977400@stignacelibrary.org
SUMMARY:Toddler Talk and Play
DESCRIPTION:
URL:https://stignacelibrary.org/event/toddler-talk-and-play-8/
CATEGORIES:Children's Program
END:VEVENT
BEGIN:VEVENT
DTSTART;TZID=America/New_York:20230506T103000
DTEND;TZID=America/New_York:20230506T113000
DTSTAMP:20260421T155111
CREATED:20230303T212852Z
LAST-MODIFIED:20230303T212852Z
UID:5741-1683369000-1683372600@stignacelibrary.org
SUMMARY:Toddler Talk and Play
DESCRIPTION:
URL:https://stignacelibrary.org/event/toddler-talk-and-play-7/
CATEGORIES:Children's Program
END:VEVENT
BEGIN:VEVENT
DTSTART;TZID=America/New_York:20230429T103000
DTEND;TZID=America/New_York:20230429T113000
DTSTAMP:20260421T155111
CREATED:20230303T212753Z
LAST-MODIFIED:20230303T212753Z
UID:5739-1682764200-1682767800@stignacelibrary.org
SUMMARY:Toddler Talk & Play
DESCRIPTION:
URL:https://stignacelibrary.org/event/toddler-talk-play-35/
CATEGORIES:Children's Program
END:VEVENT
BEGIN:VEVENT
DTSTART;TZID=America/New_York:20230422T103000
DTEND;TZID=America/New_York:20230422T113000
DTSTAMP:20260421T155111
CREATED:20230303T212707Z
LAST-MODIFIED:20230303T212707Z
UID:5737-1682159400-1682163000@stignacelibrary.org
SUMMARY:Toddler talk and Play
DESCRIPTION:
URL:https://stignacelibrary.org/event/toddler-talk-and-play-6/
CATEGORIES:Children's Program
END:VEVENT
BEGIN:VEVENT
DTSTART;TZID=America/New_York:20230415T103000
DTEND;TZID=America/New_York:20230415T113000
DTSTAMP:20260421T155111
CREATED:20230303T212545Z
LAST-MODIFIED:20230303T212545Z
UID:5735-1681554600-1681558200@stignacelibrary.org
SUMMARY:Toddler Talk and Play
DESCRIPTION:
URL:https://stignacelibrary.org/event/toddler-talk-and-play-5/
CATEGORIES:Children's Program
END:VEVENT
BEGIN:VEVENT
DTSTART;TZID=America/New_York:20230408T103000
DTEND;TZID=America/New_York:20230408T233000
DTSTAMP:20260421T155111
CREATED:20230303T212254Z
LAST-MODIFIED:20230303T212254Z
UID:5733-1680949800-1680996600@stignacelibrary.org
SUMMARY:Toddler Talk and Play
DESCRIPTION:
URL:https://stignacelibrary.org/event/toddler-talk-and-play-4/
CATEGORIES:Children's Program
END:VEVENT
BEGIN:VEVENT
DTSTART;TZID=America/New_York:20230401T103000
DTEND;TZID=America/New_York:20230401T113000
DTSTAMP:20260421T155111
CREATED:20230303T212214Z
LAST-MODIFIED:20230303T212214Z
UID:5731-1680345000-1680348600@stignacelibrary.org
SUMMARY:Toddler Talk and Play
DESCRIPTION:
URL:https://stignacelibrary.org/event/toddler-talk-and-play-3/
CATEGORIES:Children's Program
END:VEVENT
BEGIN:VEVENT
DTSTART;TZID=America/New_York:20230325T103000
DTEND;TZID=America/New_York:20230325T113000
DTSTAMP:20260421T155111
CREATED:20230303T211848Z
LAST-MODIFIED:20230303T211848Z
UID:5729-1679740200-1679743800@stignacelibrary.org
SUMMARY:Toddler Talk and Play
DESCRIPTION:
URL:https://stignacelibrary.org/event/toddler-talk-and-play-2/
CATEGORIES:Children's Program
END:VEVENT
END:VCALENDAR