BEGIN:VCALENDAR
VERSION:2.0
PRODID:-//St. Ignace Public Library - ECPv6.15.20//NONSGML v1.0//EN
CALSCALE:GREGORIAN
METHOD:PUBLISH
X-ORIGINAL-URL:https://stignacelibrary.org
X-WR-CALDESC:Events for St. Ignace Public Library
REFRESH-INTERVAL;VALUE=DURATION:PT1H
X-Robots-Tag:noindex
X-PUBLISHED-TTL:PT1H
BEGIN:VTIMEZONE
TZID:America/New_York
BEGIN:DAYLIGHT
TZOFFSETFROM:-0500
TZOFFSETTO:-0400
TZNAME:EDT
DTSTART:20210314T070000
END:DAYLIGHT
BEGIN:STANDARD
TZOFFSETFROM:-0400
TZOFFSETTO:-0500
TZNAME:EST
DTSTART:20211107T060000
END:STANDARD
BEGIN:DAYLIGHT
TZOFFSETFROM:-0500
TZOFFSETTO:-0400
TZNAME:EDT
DTSTART:20220313T070000
END:DAYLIGHT
BEGIN:STANDARD
TZOFFSETFROM:-0400
TZOFFSETTO:-0500
TZNAME:EST
DTSTART:20221106T060000
END:STANDARD
BEGIN:DAYLIGHT
TZOFFSETFROM:-0500
TZOFFSETTO:-0400
TZNAME:EDT
DTSTART:20230312T070000
END:DAYLIGHT
BEGIN:STANDARD
TZOFFSETFROM:-0400
TZOFFSETTO:-0500
TZNAME:EST
DTSTART:20231105T060000
END:STANDARD
END:VTIMEZONE
BEGIN:VEVENT
DTSTART;TZID=America/New_York:20220715T103000
DTEND;TZID=America/New_York:20220715T233000
DTSTAMP:20260422T015048
CREATED:20220706T205327Z
LAST-MODIFIED:20220706T205327Z
UID:5336-1657881000-1657927800@stignacelibrary.org
SUMMARY:Story Time
DESCRIPTION:Come in for a story\, a craft or activity\, and plenty of time to discover the magic of books! For children 2 and up\, and their families. Every Friday at 10:30. No registration is required.
URL:https://stignacelibrary.org/event/story-time-2/
LOCATION:St. Ignace Public Library\, 110 W Spruce St\, St. Igance\, MI\, 49781\, United States
CATEGORIES:Children's Program,Family
END:VEVENT
BEGIN:VEVENT
DTSTART;TZID=America/New_York:20220713T180000
DTEND;TZID=America/New_York:20220713T190000
DTSTAMP:20260422T015048
CREATED:20220630T170626Z
LAST-MODIFIED:20220630T172510Z
UID:5295-1657735200-1657738800@stignacelibrary.org
SUMMARY:Save Our Oceans\, Live Animal Event
DESCRIPTION:In this program\, we explain the links between ocean and land animals. The importance of protecting our ecosystems is explained in this fascinating program which features a variety of live animals.
URL:https://stignacelibrary.org/event/save-our-oceans-live-animal-event/
LOCATION:St. Ignace Public Library\, 110 W Spruce St\, St. Igance\, MI\, 49781\, United States
CATEGORIES:Children's Program,Family
END:VEVENT
BEGIN:VEVENT
DTSTART;TZID=America/New_York:20220712T103000
DTEND;TZID=America/New_York:20220712T113000
DTSTAMP:20260422T015048
CREATED:20220202T200054Z
LAST-MODIFIED:20220202T200054Z
UID:5027-1657621800-1657625400@stignacelibrary.org
SUMMARY:Toddler Talk & Play
DESCRIPTION:Join us for a fun\, play-based program for toddlers and preschoolers where they explore the materials provided while connecting with other children/families. Open to children ages 1 year to 5 years. Parents/caregivers are encourage to follow their lead and explore as well.
URL:https://stignacelibrary.org/event/toddler-talk-play-20/
LOCATION:St. Ignace Public Library\, 110 W Spruce St\, St. Igance\, MI\, 49781\, United States
CATEGORIES:Children's Program
END:VEVENT
BEGIN:VEVENT
DTSTART;TZID=America/New_York:20220708T130000
DTEND;TZID=America/New_York:20220708T140000
DTSTAMP:20260422T015048
CREATED:20220315T200011Z
LAST-MODIFIED:20220315T200011Z
UID:5155-1657285200-1657288800@stignacelibrary.org
SUMMARY:Children's Concert ft. Troy Graham
DESCRIPTION:Join us for an afternoon of moving and grooving with Troy Graham.
URL:https://stignacelibrary.org/event/childrens-concert-ft-troy-graham/
LOCATION:St. Ignace Public Library\, 110 W Spruce St\, St. Igance\, MI\, 49781\, United States
CATEGORIES:Children's Program,School Age,Teen,Tween
END:VEVENT
BEGIN:VEVENT
DTSTART;TZID=America/New_York:20220708T103000
DTEND;TZID=America/New_York:20220708T233000
DTSTAMP:20260422T015048
CREATED:20220706T205055Z
LAST-MODIFIED:20220706T205055Z
UID:5332-1657276200-1657323000@stignacelibrary.org
SUMMARY:Story Time
DESCRIPTION:Come in for a story\, a craft or activity\, and plenty of time to discover the magic of books! For children 2 and up\, and their families. Every Friday at 10:30. No registration is required.
URL:https://stignacelibrary.org/event/story-time/
LOCATION:St. Ignace Public Library\, 110 W Spruce St\, St. Igance\, MI\, 49781\, United States
CATEGORIES:Children's Program,Family
END:VEVENT
BEGIN:VEVENT
DTSTART;TZID=America/New_York:20220707T150000
DTEND;TZID=America/New_York:20220707T160000
DTSTAMP:20260422T015048
CREATED:20220111T215350Z
LAST-MODIFIED:20220701T200743Z
UID:4976-1657206000-1657209600@stignacelibrary.org
SUMMARY:LEGO Club
DESCRIPTION:The library will provide the LEGOs\, you provide the imagination.\n \nLEGO Club is open to anyone interested\, there is no need to sign up. You can work on your own creation or follow one of the building challenges provided.\n \nIf you have any LEGOs to spare\, please consider donating them to the LEGO club.\n \nThank you to the Friends of the Library for their generous purchase of LEGO bricks for this club.
URL:https://stignacelibrary.org/event/lego-club-23/
LOCATION:St. Ignace Public Library\, 110 W Spruce St\, St. Igance\, MI\, 49781\, United States
CATEGORIES:Children's Program,School Age,Teen,Tween
END:VEVENT
BEGIN:VEVENT
DTSTART;TZID=America/New_York:20220630T150000
DTEND;TZID=America/New_York:20220630T160000
DTSTAMP:20260422T015048
CREATED:20220111T215214Z
LAST-MODIFIED:20220526T181135Z
UID:4974-1656601200-1656604800@stignacelibrary.org
SUMMARY:LEGO Club
DESCRIPTION:The library will provide the LEGOs\, you provide the imagination.\n \nLEGO Club is open to anyone interested\, there is no need to sign up. You can work on your own creation or follow one of the building challenges provided.\n \nIf you have any LEGOs to spare\, please consider donating them to the LEGO club.\n \nThank you to the Friends of the Library for their generous purchase of LEGOS for this club.
URL:https://stignacelibrary.org/event/lego-club-22/
LOCATION:St. Ignace Public Library\, 110 W Spruce St\, St. Igance\, MI\, 49781\, United States
CATEGORIES:Children's Program,School Age,Teen,Tween
END:VEVENT
BEGIN:VEVENT
DTSTART;TZID=America/New_York:20220628T103000
DTEND;TZID=America/New_York:20220628T113000
DTSTAMP:20260422T015048
CREATED:20220202T195917Z
LAST-MODIFIED:20220202T195917Z
UID:5025-1656412200-1656415800@stignacelibrary.org
SUMMARY:Toddler Talk & Play
DESCRIPTION:Join us for a fun\, play-based program for toddlers and preschoolers where they explore the materials provided while connecting with other children/families. Open to children ages 1 year to 5 years. Parents/caregivers are encourage to follow their lead and explore as well.
URL:https://stignacelibrary.org/event/toddler-talk-play-19/
LOCATION:St. Ignace Public Library\, 110 W Spruce St\, St. Igance\, MI\, 49781\, United States
CATEGORIES:Children's Program
END:VEVENT
BEGIN:VEVENT
DTSTART;TZID=America/New_York:20220616T150000
DTEND;TZID=America/New_York:20220616T160000
DTSTAMP:20260422T015048
CREATED:20220111T215142Z
LAST-MODIFIED:20220526T181303Z
UID:4972-1655391600-1655395200@stignacelibrary.org
SUMMARY:LEGO Club
DESCRIPTION:The library will provide the LEGOs\, you provide the imagination.\n \nLEGO Club is open to anyone interested\, there is no need to sign up. You can work on your own creation or follow one of the building challenges provided.\n \nIf you have any LEGOs to spare\, please consider donating them to the LEGO club.\n \nThank you to the Friends of the Library for their generous purchase of LEGOS for this club.
URL:https://stignacelibrary.org/event/lego-club-21/
LOCATION:St. Ignace Public Library\, 110 W Spruce St\, St. Igance\, MI\, 49781\, United States
CATEGORIES:Children's Program,School Age,Teen,Tween
END:VEVENT
BEGIN:VEVENT
DTSTART;TZID=America/New_York:20220614T103000
DTEND;TZID=America/New_York:20220614T113000
DTSTAMP:20260422T015048
CREATED:20220202T195837Z
LAST-MODIFIED:20220202T195837Z
UID:5023-1655202600-1655206200@stignacelibrary.org
SUMMARY:Toddler Talk & Play
DESCRIPTION:Join us for a fun\, play-based program for toddlers and preschoolers where they explore the materials provided while connecting with other children/families. Open to children ages 1 year to 5 years. Parents/caregivers are encourage to follow their lead and explore as well.
URL:https://stignacelibrary.org/event/toddler-talk-play-18/
LOCATION:St. Ignace Public Library\, 110 W Spruce St\, St. Igance\, MI\, 49781\, United States
CATEGORIES:Children's Program
END:VEVENT
BEGIN:VEVENT
DTSTART;TZID=America/New_York:20220601T150000
DTEND;TZID=America/New_York:20220601T160000
DTSTAMP:20260422T015048
CREATED:20220111T215109Z
LAST-MODIFIED:20220111T215109Z
UID:4970-1654095600-1654099200@stignacelibrary.org
SUMMARY:LEGO Club
DESCRIPTION:The library will provide the LEGOs\, you provide the imagination.\n \nLEGO Club is open to anyone interested\, there is no need to sign up. You can work on your own creation or follow one of the building challenges provided.\n \nIf you have any LEGOs to spare\, please consider donating them to the LEGO club.\n \nThank you to the Friends of the Library for their generous purchase of LEGOS for this club.
URL:https://stignacelibrary.org/event/lego-club-20/
LOCATION:St. Ignace Public Library\, 110 W Spruce St\, St. Igance\, MI\, 49781\, United States
CATEGORIES:Children's Program,School Age,Teen,Tween
END:VEVENT
BEGIN:VEVENT
DTSTART;TZID=America/New_York:20220531T103000
DTEND;TZID=America/New_York:20220531T113000
DTSTAMP:20260422T015048
CREATED:20220202T195749Z
LAST-MODIFIED:20220202T195749Z
UID:5021-1653993000-1653996600@stignacelibrary.org
SUMMARY:Toddler Talk & Play
DESCRIPTION:Join us for a fun\, play-based program for toddlers and preschoolers where they explore the materials provided while connecting with other children/families. Open to children ages 1 year to 5 years. Parents/caregivers are encourage to follow their lead and explore as well.
URL:https://stignacelibrary.org/event/toddler-talk-play-17/
LOCATION:St. Ignace Public Library\, 110 W Spruce St\, St. Igance\, MI\, 49781\, United States
CATEGORIES:Children's Program
END:VEVENT
BEGIN:VEVENT
DTSTART;TZID=America/New_York:20220519T150000
DTEND;TZID=America/New_York:20220519T160000
DTSTAMP:20260422T015048
CREATED:20220103T193205Z
LAST-MODIFIED:20220103T193205Z
UID:4909-1652972400-1652976000@stignacelibrary.org
SUMMARY:LEGO Club
DESCRIPTION:The library will provide the LEGOs\, you provide the imagination.\n \nLEGO Club is open to anyone interested\, there is no need to sign up. You can work on your own creation or follow one of the building challenges provided.\n \nIf you have any LEGOs to spare\, please consider donating them to the LEGO club.\n \nThank you to the Friends of the Library for their generous purchase of LEGOS for this club.
URL:https://stignacelibrary.org/event/lego-club-19/
LOCATION:St. Ignace Public Library\, 110 W Spruce St\, St. Igance\, MI\, 49781\, United States
CATEGORIES:Children's Program,School Age,Teen,Tween
END:VEVENT
BEGIN:VEVENT
DTSTART;TZID=America/New_York:20220517T103000
DTEND;TZID=America/New_York:20220517T113000
DTSTAMP:20260422T015048
CREATED:20220202T195616Z
LAST-MODIFIED:20220202T195616Z
UID:5019-1652783400-1652787000@stignacelibrary.org
SUMMARY:Toddler Talk & Play
DESCRIPTION:Join us for a fun\, play-based program for toddlers and preschoolers where they explore the materials provided while connecting with other children/families. Open to children ages 1 year to 5 years. Parents/caregivers are encourage to follow their lead and explore as well.
URL:https://stignacelibrary.org/event/toddler-talk-play-16/
LOCATION:St. Ignace Public Library\, 110 W Spruce St\, St. Igance\, MI\, 49781\, United States
CATEGORIES:Children's Program
END:VEVENT
BEGIN:VEVENT
DTSTART;TZID=America/New_York:20220506T103000
DTEND;TZID=America/New_York:20220506T110000
DTSTAMP:20260422T015048
CREATED:20220217T210105Z
LAST-MODIFIED:20220217T210105Z
UID:5125-1651833000-1651834800@stignacelibrary.org
SUMMARY:Toddler Storytime
DESCRIPTION:Join us for an interactive storytime and themed crafts in the Children’s Section on Friday’s at 10:30 AM.\n\n \nAges 2+\, but younger siblings are welcome to join.
URL:https://stignacelibrary.org/event/toddler-storytime-40/
LOCATION:St. Ignace Public Library\, 110 W Spruce St\, St. Igance\, MI\, 49781\, United States
CATEGORIES:Children's Program
END:VEVENT
BEGIN:VEVENT
DTSTART;TZID=America/New_York:20220505T150000
DTEND;TZID=America/New_York:20220505T160000
DTSTAMP:20260422T015048
CREATED:20220103T192946Z
LAST-MODIFIED:20220103T192946Z
UID:4907-1651762800-1651766400@stignacelibrary.org
SUMMARY:LEGO Club
DESCRIPTION:The library will provide the LEGOs\, you provide the imagination.\n \nLEGO Club is open to anyone interested\, there is no need to sign up. You can work on your own creation or follow one of the building challenges provided.\n \nIf you have any LEGOs to spare\, please consider donating them to the LEGO club.\n \nThank you to the Friends of the Library for their generous purchase of LEGOS for this club.
URL:https://stignacelibrary.org/event/lego-club-18/
LOCATION:St. Ignace Public Library\, 110 W Spruce St\, St. Igance\, MI\, 49781\, United States
CATEGORIES:Children's Program,School Age,Teen,Tween
END:VEVENT
BEGIN:VEVENT
DTSTART;TZID=America/New_York:20220503T103000
DTEND;TZID=America/New_York:20220503T113000
DTSTAMP:20260422T015048
CREATED:20220202T195543Z
LAST-MODIFIED:20220202T195543Z
UID:5017-1651573800-1651577400@stignacelibrary.org
SUMMARY:Toddler Talk & Play
DESCRIPTION:Join us for a fun\, play-based program for toddlers and preschoolers where they explore the materials provided while connecting with other children/families. Open to children ages 1 year to 5 years. Parents/caregivers are encourage to follow their lead and explore as well.
URL:https://stignacelibrary.org/event/toddler-talk-play-15/
LOCATION:St. Ignace Public Library\, 110 W Spruce St\, St. Igance\, MI\, 49781\, United States
CATEGORIES:Children's Program
END:VEVENT
BEGIN:VEVENT
DTSTART;TZID=America/New_York:20220429T103000
DTEND;TZID=America/New_York:20220429T110000
DTSTAMP:20260422T015048
CREATED:20220217T204905Z
LAST-MODIFIED:20220217T204905Z
UID:5123-1651228200-1651230000@stignacelibrary.org
SUMMARY:Toddler Storytime
DESCRIPTION:Join us for an interactive storytime and themed crafts in the Children’s Section on Friday’s at 10:30 AM.\n\n \nAges 2+\, but younger siblings are welcome to join.
URL:https://stignacelibrary.org/event/toddler-storytime-39/
LOCATION:St. Ignace Public Library\, 110 W Spruce St\, St. Igance\, MI\, 49781\, United States
CATEGORIES:Children's Program
END:VEVENT
BEGIN:VEVENT
DTSTART;TZID=America/New_York:20220422T150000
DTEND;TZID=America/New_York:20220422T160000
DTSTAMP:20260422T015048
CREATED:20220216T154008Z
LAST-MODIFIED:20220216T154008Z
UID:5085-1650639600-1650643200@stignacelibrary.org
SUMMARY:Earth Day Tree Planting
DESCRIPTION:Help us plant and grow trees for Earth Day! Through Neighborhood Forest\, patrons can sign children up to receive a free tree sapling that is to be picked up at the library on Earth Day\, April 22. \nJoin the library for our tree planting event or take the sapling home and watch it grow year after year! \nSign-up for a free tree sapling ->https://bit.ly/3rTBzbL
URL:https://stignacelibrary.org/event/earth-day-tree-planting/
LOCATION:St. Ignace Public Library\, 110 W Spruce St\, St. Igance\, MI\, 49781\, United States
CATEGORIES:Children's Program,School Age,Teen,Tween
END:VEVENT
BEGIN:VEVENT
DTSTART;TZID=America/New_York:20220422T103000
DTEND;TZID=America/New_York:20220422T110000
DTSTAMP:20260422T015048
CREATED:20220217T204838Z
LAST-MODIFIED:20220217T204838Z
UID:5121-1650623400-1650625200@stignacelibrary.org
SUMMARY:Toddler Storytime
DESCRIPTION:Join us for an interactive storytime and themed crafts in the Children’s Section on Friday’s at 10:30 AM.\n\n \nAges 2+\, but younger siblings are welcome to join.
URL:https://stignacelibrary.org/event/toddler-storytime-38/
LOCATION:MI
CATEGORIES:Children's Program
END:VEVENT
BEGIN:VEVENT
DTSTART;TZID=America/New_York:20220421T150000
DTEND;TZID=America/New_York:20220421T160000
DTSTAMP:20260422T015048
CREATED:20220103T191937Z
LAST-MODIFIED:20220103T191937Z
UID:4905-1650553200-1650556800@stignacelibrary.org
SUMMARY:LEGO Club
DESCRIPTION:The library will provide the LEGOs\, you provide the imagination.\n \nLEGO Club is open to anyone interested\, there is no need to sign up. You can work on your own creation or follow one of the building challenges provided.\n \nIf you have any LEGOs to spare\, please consider donating them to the LEGO club.\n \nThank you to the Friends of the Library for their generous purchase of LEGOS for this club.
URL:https://stignacelibrary.org/event/lego-club-17/
LOCATION:St. Ignace Public Library\, 110 W Spruce St\, St. Igance\, MI\, 49781\, United States
CATEGORIES:Children's Program,School Age,Teen,Tween
END:VEVENT
BEGIN:VEVENT
DTSTART;TZID=America/New_York:20220419T103000
DTEND;TZID=America/New_York:20220419T113000
DTSTAMP:20260422T015048
CREATED:20220202T195425Z
LAST-MODIFIED:20220202T195425Z
UID:5015-1650364200-1650367800@stignacelibrary.org
SUMMARY:Toddler Talk & Play
DESCRIPTION:Join us for a fun\, play-based program for toddlers and preschoolers where they explore the materials provided while connecting with other children/families. Open to children ages 1 year to 5 years. Parents/caregivers are encourage to follow their lead and explore as well.
URL:https://stignacelibrary.org/event/toddler-talk-play-14/
LOCATION:St. Ignace Public Library\, 110 W Spruce St\, St. Igance\, MI\, 49781\, United States
CATEGORIES:Children's Program
END:VEVENT
BEGIN:VEVENT
DTSTART;TZID=America/New_York:20220415T103000
DTEND;TZID=America/New_York:20220415T110000
DTSTAMP:20260422T015048
CREATED:20220217T204815Z
LAST-MODIFIED:20220217T204815Z
UID:5119-1650018600-1650020400@stignacelibrary.org
SUMMARY:Toddler Storytime
DESCRIPTION:Join us for an interactive storytime and themed crafts in the Children’s Section on Friday’s at 10:30 AM.\n\n \nAges 2+\, but younger siblings are welcome to join.
URL:https://stignacelibrary.org/event/toddler-storytime-37/
LOCATION:St. Ignace Public Library\, 110 W Spruce St\, St. Igance\, MI\, 49781\, United States
CATEGORIES:Children's Program
END:VEVENT
BEGIN:VEVENT
DTSTART;TZID=America/New_York:20220415T103000
DTEND;TZID=America/New_York:20220415T110000
DTSTAMP:20260422T015048
CREATED:20220217T204741Z
LAST-MODIFIED:20220217T204741Z
UID:5117-1650018600-1650020400@stignacelibrary.org
SUMMARY:Toddler Storytime
DESCRIPTION:Join us for an interactive storytime and themed crafts in the Children’s Section on Friday’s at 10:30 AM.\n\n \nAges 2+\, but younger siblings are welcome to join.
URL:https://stignacelibrary.org/event/toddler-storytime-36/
LOCATION:St. Ignace Public Library\, 110 W Spruce St\, St. Igance\, MI\, 49781\, United States
CATEGORIES:Children's Program
END:VEVENT
BEGIN:VEVENT
DTSTART;TZID=America/New_York:20220409T130000
DTEND;TZID=America/New_York:20220409T150000
DTSTAMP:20260422T015048
CREATED:20220321T184703Z
LAST-MODIFIED:20220321T184703Z
UID:5165-1649509200-1649516400@stignacelibrary.org
SUMMARY:Family Flicks- Sing 2
DESCRIPTION:Join us for a family friendly movie afternoon featuring Sing 2.
URL:https://stignacelibrary.org/event/family-flicks-sing-2/
LOCATION:St. Ignace Public Library\, 110 W Spruce St\, St. Igance\, MI\, 49781\, United States
CATEGORIES:Children's Program,School Age,Teen,Tween
END:VEVENT
BEGIN:VEVENT
DTSTART;TZID=America/New_York:20220408T103000
DTEND;TZID=America/New_York:20220408T110000
DTSTAMP:20260422T015048
CREATED:20220217T204707Z
LAST-MODIFIED:20220217T204707Z
UID:5115-1649413800-1649415600@stignacelibrary.org
SUMMARY:Toddler Storytime
DESCRIPTION:Join us for an interactive storytime and themed crafts in the Children’s Section on Friday’s at 10:30 AM.\n\n \nAges 2+\, but younger siblings are welcome to join.
URL:https://stignacelibrary.org/event/toddler-storytime-35/
LOCATION:St. Ignace Public Library\, 110 W Spruce St\, St. Igance\, MI\, 49781\, United States
CATEGORIES:Children's Program
END:VEVENT
BEGIN:VEVENT
DTSTART;TZID=America/New_York:20220407T150000
DTEND;TZID=America/New_York:20220407T160000
DTSTAMP:20260422T015048
CREATED:20220103T191902Z
LAST-MODIFIED:20220103T191902Z
UID:4903-1649343600-1649347200@stignacelibrary.org
SUMMARY:LEGO Club
DESCRIPTION:The library will provide the LEGOs\, you provide the imagination.\n \nLEGO Club is open to anyone interested\, there is no need to sign up. You can work on your own creation or follow one of the building challenges provided.\n \nIf you have any LEGOs to spare\, please consider donating them to the LEGO club.\n \nThank you to the Friends of the Library for their generous purchase of LEGOS for this club.
URL:https://stignacelibrary.org/event/lego-club-16/
LOCATION:St. Ignace Public Library\, 110 W Spruce St\, St. Igance\, MI\, 49781\, United States
CATEGORIES:Children's Program,School Age,Teen,Tween
END:VEVENT
BEGIN:VEVENT
DTSTART;TZID=America/New_York:20220405T103000
DTEND;TZID=America/New_York:20220405T113000
DTSTAMP:20260422T015048
CREATED:20220202T195348Z
LAST-MODIFIED:20220202T195348Z
UID:5013-1649154600-1649158200@stignacelibrary.org
SUMMARY:Toddler Talk & Play
DESCRIPTION:Join us for a fun\, play-based program for toddlers and preschoolers where they explore the materials provided while connecting with other children/families. Open to children ages 1 year to 5 years. Parents/caregivers are encourage to follow their lead and explore as well.
URL:https://stignacelibrary.org/event/toddler-talk-play-13/
LOCATION:St. Ignace Public Library\, 110 W Spruce St\, St. Igance\, MI\, 49781\, United States
CATEGORIES:Children's Program
END:VEVENT
BEGIN:VEVENT
DTSTART;TZID=America/New_York:20220401T103000
DTEND;TZID=America/New_York:20220401T110000
DTSTAMP:20260422T015048
CREATED:20220217T204642Z
LAST-MODIFIED:20220217T204642Z
UID:5113-1648809000-1648810800@stignacelibrary.org
SUMMARY:Toddler Storytime
DESCRIPTION:Join us for an interactive storytime and themed crafts in the Children’s Section on Friday’s at 10:30 AM.\n\n \nAges 2+\, but younger siblings are welcome to join.
URL:https://stignacelibrary.org/event/toddler-storytime-34/
LOCATION:St. Ignace Public Library\, 110 W Spruce St\, St. Igance\, MI\, 49781\, United States
CATEGORIES:Children's Program
END:VEVENT
BEGIN:VEVENT
DTSTART;TZID=America/New_York:20220325T103000
DTEND;TZID=America/New_York:20220325T110000
DTSTAMP:20260422T015048
CREATED:20210825T194803Z
LAST-MODIFIED:20210825T194803Z
UID:4650-1648204200-1648206000@stignacelibrary.org
SUMMARY:Toddler Storytime
DESCRIPTION:Join us for an interactive storytime and themed crafts in the Children’s Section on Friday’s at 10:30 AM.\n\n \nAges 2+\, but younger siblings are welcome to join.
URL:https://stignacelibrary.org/event/toddler-storytime-33/
LOCATION:St. Ignace Public Library\, 110 W Spruce St\, St. Igance\, MI\, 49781\, United States
CATEGORIES:Children's Program
END:VEVENT
END:VCALENDAR