BEGIN:VCALENDAR
VERSION:2.0
PRODID:-//St. Ignace Public Library - ECPv6.15.20//NONSGML v1.0//EN
CALSCALE:GREGORIAN
METHOD:PUBLISH
X-WR-CALNAME:St. Ignace Public Library
X-ORIGINAL-URL:https://stignacelibrary.org
X-WR-CALDESC:Events for St. Ignace Public Library
REFRESH-INTERVAL;VALUE=DURATION:PT1H
X-Robots-Tag:noindex
X-PUBLISHED-TTL:PT1H
BEGIN:VTIMEZONE
TZID:America/New_York
BEGIN:DAYLIGHT
TZOFFSETFROM:-0500
TZOFFSETTO:-0400
TZNAME:EDT
DTSTART:20210314T070000
END:DAYLIGHT
BEGIN:STANDARD
TZOFFSETFROM:-0400
TZOFFSETTO:-0500
TZNAME:EST
DTSTART:20211107T060000
END:STANDARD
BEGIN:DAYLIGHT
TZOFFSETFROM:-0500
TZOFFSETTO:-0400
TZNAME:EDT
DTSTART:20220313T070000
END:DAYLIGHT
BEGIN:STANDARD
TZOFFSETFROM:-0400
TZOFFSETTO:-0500
TZNAME:EST
DTSTART:20221106T060000
END:STANDARD
BEGIN:DAYLIGHT
TZOFFSETFROM:-0500
TZOFFSETTO:-0400
TZNAME:EDT
DTSTART:20230312T070000
END:DAYLIGHT
BEGIN:STANDARD
TZOFFSETFROM:-0400
TZOFFSETTO:-0500
TZNAME:EST
DTSTART:20231105T060000
END:STANDARD
END:VTIMEZONE
BEGIN:VEVENT
DTSTART;TZID=America/New_York:20221129T100000
DTEND;TZID=America/New_York:20221129T130000
DTSTAMP:20260420T033650
CREATED:20221004T155512Z
LAST-MODIFIED:20221004T155512Z
UID:5516-1669716000-1669726800@stignacelibrary.org
SUMMARY:Private
DESCRIPTION:
URL:https://stignacelibrary.org/event/private-8/
END:VEVENT
BEGIN:VEVENT
DTSTART;TZID=America/New_York:20221128T110000
DTEND;TZID=America/New_York:20221128T130000
DTSTAMP:20260420T033650
CREATED:20221031T144515Z
LAST-MODIFIED:20221031T144515Z
UID:5559-1669633200-1669640400@stignacelibrary.org
SUMMARY:Private
DESCRIPTION:
URL:https://stignacelibrary.org/event/private-11/
END:VEVENT
BEGIN:VEVENT
DTSTART;VALUE=DATE:20221125
DTEND;VALUE=DATE:20221126
DTSTAMP:20260420T033650
CREATED:20211006T194851Z
LAST-MODIFIED:20211006T194851Z
UID:4759-1669334400-1669420799@stignacelibrary.org
SUMMARY:Library Closed
DESCRIPTION:The library will be closed all day.
URL:https://stignacelibrary.org/event/library-closed-13/
END:VEVENT
BEGIN:VEVENT
DTSTART;VALUE=DATE:20221124
DTEND;VALUE=DATE:20221125
DTSTAMP:20260420T033650
CREATED:20211006T194832Z
LAST-MODIFIED:20211006T194832Z
UID:4757-1669248000-1669334399@stignacelibrary.org
SUMMARY:Library Closed
DESCRIPTION:The library will be closed all day.
URL:https://stignacelibrary.org/event/library-closed-12/
END:VEVENT
BEGIN:VEVENT
DTSTART;TZID=America/New_York:20221118T103000
DTEND;TZID=America/New_York:20221118T233000
DTSTAMP:20260420T033650
CREATED:20221021T184755Z
LAST-MODIFIED:20221021T184755Z
UID:5544-1668767400-1668814200@stignacelibrary.org
SUMMARY:Story Hour
DESCRIPTION:Stories and activities for the littlest learners and their families\, ages 2-6 recommended.
URL:https://stignacelibrary.org/event/story-hour-4/
LOCATION:St. Ignace Public Library\, 110 W Spruce St\, St. Igance\, MI\, 49781\, United States
CATEGORIES:Children's Program,Family
END:VEVENT
BEGIN:VEVENT
DTSTART;TZID=America/New_York:20221115T103000
DTEND;TZID=America/New_York:20221115T113000
DTSTAMP:20260420T033650
CREATED:20220202T200609Z
LAST-MODIFIED:20220202T200609Z
UID:5045-1668508200-1668511800@stignacelibrary.org
SUMMARY:Toddler Talk & Play
DESCRIPTION:Join us for a fun\, play-based program for toddlers and preschoolers where they explore the materials provided while connecting with other children/families. Open to children ages 1 year to 5 years. Parents/caregivers are encourage to follow their lead and explore as well.
URL:https://stignacelibrary.org/event/toddler-talk-play-29/
LOCATION:St. Ignace Public Library\, 110 W Spruce St\, St. Igance\, MI\, 49781\, United States
CATEGORIES:Children's Program
END:VEVENT
BEGIN:VEVENT
DTSTART;TZID=America/New_York:20221111T103000
DTEND;TZID=America/New_York:20221111T233000
DTSTAMP:20260420T033650
CREATED:20221021T184538Z
LAST-MODIFIED:20221021T185811Z
UID:5542-1668162600-1668209400@stignacelibrary.org
SUMMARY:Story Hour
DESCRIPTION:Stories and activities for the littlest learners and their families\, ages 2-6 recommended.
URL:https://stignacelibrary.org/event/story-hour-3/
LOCATION:St. Ignace Public Library\, 110 W Spruce St\, St. Igance\, MI\, 49781\, United States
CATEGORIES:Children's Program,Family
END:VEVENT
BEGIN:VEVENT
DTSTART;TZID=America/New_York:20221109T170000
DTEND;TZID=America/New_York:20221109T183000
DTSTAMP:20260420T033650
CREATED:20220111T214805Z
LAST-MODIFIED:20220111T214805Z
UID:4966-1668013200-1668018600@stignacelibrary.org
SUMMARY:Knit & Crochet Club
DESCRIPTION:Bring a project\, an idea\, or a desire to learn! Don’t worry about pace\, our club is for all levels. \nThe library will provide some of these materials to practice with if you don’t have your own. No registration is required.
URL:https://stignacelibrary.org/event/knit-crochet-club-10/
LOCATION:St. Ignace Public Library\, 110 W Spruce St\, St. Igance\, MI\, 49781\, United States
CATEGORIES:Adult,School Age,Teen,Tween
END:VEVENT
BEGIN:VEVENT
DTSTART;TZID=America/New_York:20221108T170000
DTEND;TZID=America/New_York:20221108T180000
DTSTAMP:20260420T033650
CREATED:20220217T204406Z
LAST-MODIFIED:20220217T204406Z
UID:5108-1667926800-1667930400@stignacelibrary.org
SUMMARY:Library Board Meeting
DESCRIPTION:The St. Ignace Public Library Board meets the second Tuesday of each month at 5:00 pm in the community room of the library. The public is welcome to attend and participate in the meeting during public comment.
URL:https://stignacelibrary.org/event/library-board-meeting-11/
LOCATION:St. Ignace Public Library\, 110 W Spruce St\, St. Igance\, MI\, 49781\, United States
END:VEVENT
BEGIN:VEVENT
DTSTART;TZID=America/New_York:20221104T103000
DTEND;TZID=America/New_York:20221104T233000
DTSTAMP:20260420T033650
CREATED:20221021T183908Z
LAST-MODIFIED:20221021T185636Z
UID:5538-1667557800-1667604600@stignacelibrary.org
SUMMARY:Story Hour
DESCRIPTION:Stories and activities for the littlest learners and their families\, ages 2-6 recommended.
URL:https://stignacelibrary.org/event/story-hour/
LOCATION:St. Ignace Public Library\, 110 W Spruce St\, St. Igance\, MI\, 49781\, United States
CATEGORIES:Children's Program,Family
END:VEVENT
BEGIN:VEVENT
DTSTART;TZID=America/New_York:20221102T180000
DTEND;TZID=America/New_York:20221102T190000
DTSTAMP:20260420T033650
CREATED:20220713T154211Z
LAST-MODIFIED:20220713T154211Z
UID:5362-1667412000-1667415600@stignacelibrary.org
SUMMARY:Edmund Fitzgerald; The Stories\, The Song
DESCRIPTION:Author\, musician and performer Mike Fornes has performed for a decade at the Great Lakes Shipwreck Museum’s annual bell-tolling ceremony for the lost souls of the Edmund Fitzgerald at Whitefish Point\, Michigan. His interaction with surviving family members of the lost crewmen\, and Lightfoot himself\, generate many first-hand accounts of the tragedy and of how the iconic song was written. Mike shares those tales along with the famous song which documents the tragedy\, live at the library.
URL:https://stignacelibrary.org/event/edmund-fitzgerald-the-stories-the-song/
LOCATION:St. Ignace Public Library\, 110 W Spruce St\, St. Igance\, MI\, 49781\, United States
CATEGORIES:Adult
END:VEVENT
BEGIN:VEVENT
DTSTART;TZID=America/New_York:20221101T103000
DTEND;TZID=America/New_York:20221101T113000
DTSTAMP:20260420T033650
CREATED:20220202T200540Z
LAST-MODIFIED:20220202T200540Z
UID:5043-1667298600-1667302200@stignacelibrary.org
SUMMARY:Toddler Talk & Play
DESCRIPTION:Join us for a fun\, play-based program for toddlers and preschoolers where they explore the materials provided while connecting with other children/families. Open to children ages 1 year to 5 years. Parents/caregivers are encourage to follow their lead and explore as well.
URL:https://stignacelibrary.org/event/toddler-talk-play-28/
LOCATION:St. Ignace Public Library\, 110 W Spruce St\, St. Igance\, MI\, 49781\, United States
CATEGORIES:Children's Program
END:VEVENT
BEGIN:VEVENT
DTSTART;TZID=America/New_York:20221028T103000
DTEND;TZID=America/New_York:20221028T233000
DTSTAMP:20260420T033650
CREATED:20221021T184147Z
LAST-MODIFIED:20221021T185451Z
UID:5540-1666953000-1666999800@stignacelibrary.org
SUMMARY:Story Hour
DESCRIPTION:Stories and activities for the littlest learners and their families\, ages 2-6 recommended.
URL:https://stignacelibrary.org/event/story-hour-2/
LOCATION:St. Ignace Public Library\, 110 W Spruce St\, St. Igance\, MI\, 49781\, United States
CATEGORIES:Children's Program,Family
END:VEVENT
BEGIN:VEVENT
DTSTART;TZID=America/New_York:20221026T190000
DTEND;TZID=America/New_York:20221026T200000
DTSTAMP:20260420T033650
CREATED:20221012T160829Z
LAST-MODIFIED:20221012T160829Z
UID:5520-1666810800-1666814400@stignacelibrary.org
SUMMARY:Private
DESCRIPTION:
URL:https://stignacelibrary.org/event/private-9/
END:VEVENT
BEGIN:VEVENT
DTSTART;TZID=America/New_York:20221022T183000
DTEND;TZID=America/New_York:20221022T193000
DTSTAMP:20260420T033650
CREATED:20220902T144859Z
LAST-MODIFIED:20220902T145042Z
UID:5468-1666463400-1666467000@stignacelibrary.org
SUMMARY:Troy Graham Concernt
DESCRIPTION:  \n \nMusician Troy Graham brings his distinctive folk/bluegrass style back to St. Ignace for our Fall community concert.
URL:https://stignacelibrary.org/event/seed-savers-workshop/
LOCATION:St. Ignace Public Library\, 110 W Spruce St\, St. Igance\, MI\, 49781\, United States
CATEGORIES:Adult,Teen
END:VEVENT
BEGIN:VEVENT
DTSTART;TZID=America/New_York:20221022T100000
DTEND;TZID=America/New_York:20221022T150000
DTSTAMP:20260420T033650
CREATED:20220902T154647Z
LAST-MODIFIED:20220902T154647Z
UID:5472-1666432800-1666450800@stignacelibrary.org
SUMMARY:Private
DESCRIPTION:
URL:https://stignacelibrary.org/event/private-5/
END:VEVENT
BEGIN:VEVENT
DTSTART;TZID=America/New_York:20221018T103000
DTEND;TZID=America/New_York:20221018T113000
DTSTAMP:20260420T033650
CREATED:20220202T200510Z
LAST-MODIFIED:20220202T200510Z
UID:5041-1666089000-1666092600@stignacelibrary.org
SUMMARY:Toddler Talk & Play
DESCRIPTION:Join us for a fun\, play-based program for toddlers and preschoolers where they explore the materials provided while connecting with other children/families. Open to children ages 1 year to 5 years. Parents/caregivers are encourage to follow their lead and explore as well.
URL:https://stignacelibrary.org/event/toddler-talk-play-27/
LOCATION:St. Ignace Public Library\, 110 W Spruce St\, St. Igance\, MI\, 49781\, United States
CATEGORIES:Children's Program
END:VEVENT
BEGIN:VEVENT
DTSTART;TZID=America/New_York:20221015T180000
DTEND;TZID=America/New_York:20221015T193000
DTSTAMP:20260420T033650
CREATED:20220926T231844Z
LAST-MODIFIED:20220926T231844Z
UID:5509-1665856800-1665862200@stignacelibrary.org
SUMMARY:Fall into Wellness Community Yoga
DESCRIPTION:– Introducing a simple yoga practice you can do at home\, tips on seasonal wellness tips inspired by yoga and ayurveda\, and a guided time for seasonal reflection and intentional planning for the last few months of the year ahead. \n– The yoga practice will be about 60 minutes long\, followed by the guided reflection/planning practice. After that we’ll have warm tea\, an ayurvedic-inspired snack for fall\, and time for conversation and connection. The event will be approx. 1.5 to 2 hrs. long. Instructor: Samantha Radecki
URL:https://stignacelibrary.org/event/fall-into-wellness-community-yoga/
LOCATION:St. Ignace Public Library\, 110 W Spruce St\, St. Igance\, MI\, 49781\, United States
CATEGORIES:Adult,Teen
END:VEVENT
BEGIN:VEVENT
DTSTART;TZID=America/New_York:20221012T170000
DTEND;TZID=America/New_York:20221012T183000
DTSTAMP:20260420T033650
CREATED:20220111T214730Z
LAST-MODIFIED:20220111T214730Z
UID:4964-1665594000-1665599400@stignacelibrary.org
SUMMARY:Knit & Crochet Club
DESCRIPTION:Bring a project\, an idea\, or a desire to learn! Don’t worry about pace\, our club is for all levels. \nThe library will provide some of these materials to practice with if you don’t have your own. No registration is required.
URL:https://stignacelibrary.org/event/knit-crochet-club-9/
LOCATION:St. Ignace Public Library\, 110 W Spruce St\, St. Igance\, MI\, 49781\, United States
CATEGORIES:Adult,School Age,Teen,Tween
END:VEVENT
BEGIN:VEVENT
DTSTART;TZID=America/New_York:20221011T170000
DTEND;TZID=America/New_York:20221011T180000
DTSTAMP:20260420T033650
CREATED:20220217T204332Z
LAST-MODIFIED:20220217T204332Z
UID:5106-1665507600-1665511200@stignacelibrary.org
SUMMARY:Library Board Meeting
DESCRIPTION:The St. Ignace Public Library Board meets the second Tuesday of each month at 5:00 pm in the community room of the library. The public is welcome to attend and participate in the meeting during public comment.
URL:https://stignacelibrary.org/event/library-board-meeting-10/
LOCATION:St. Ignace Public Library\, 110 W Spruce St\, St. Igance\, MI\, 49781\, United States
END:VEVENT
BEGIN:VEVENT
DTSTART;TZID=America/New_York:20221004T103000
DTEND;TZID=America/New_York:20221004T113000
DTSTAMP:20260420T033650
CREATED:20220202T200438Z
LAST-MODIFIED:20220202T200438Z
UID:5039-1664879400-1664883000@stignacelibrary.org
SUMMARY:Toddler Talk & Play
DESCRIPTION:Join us for a fun\, play-based program for toddlers and preschoolers where they explore the materials provided while connecting with other children/families. Open to children ages 1 year to 5 years. Parents/caregivers are encourage to follow their lead and explore as well.
URL:https://stignacelibrary.org/event/toddler-talk-play-26/
LOCATION:St. Ignace Public Library\, 110 W Spruce St\, St. Igance\, MI\, 49781\, United States
CATEGORIES:Children's Program
END:VEVENT
BEGIN:VEVENT
DTSTART;TZID=America/New_York:20221001T100000
DTEND;TZID=America/New_York:20221001T150000
DTSTAMP:20260420T033650
CREATED:20220808T151729Z
LAST-MODIFIED:20220808T151832Z
UID:5409-1664618400-1664636400@stignacelibrary.org
SUMMARY:Private
DESCRIPTION:
URL:https://stignacelibrary.org/event/private-2/
END:VEVENT
BEGIN:VEVENT
DTSTART;TZID=America/New_York:20220930T130000
DTEND;TZID=America/New_York:20220930T150000
DTSTAMP:20260420T033650
CREATED:20220919T151244Z
LAST-MODIFIED:20220919T151548Z
UID:5494-1664542800-1664550000@stignacelibrary.org
SUMMARY:Private
DESCRIPTION:
URL:https://stignacelibrary.org/event/private-7/
END:VEVENT
BEGIN:VEVENT
DTSTART;TZID=America/New_York:20220929T170000
DTEND;TZID=America/New_York:20220929T180000
DTSTAMP:20260420T033650
CREATED:20220729T174758Z
LAST-MODIFIED:20220825T190201Z
UID:5389-1664470800-1664474400@stignacelibrary.org
SUMMARY:Book Club
DESCRIPTION:In May 2001\, a group of men attempted to cross the Mexican border into the desert of southern Arizona\, through the deadliest region of the continent\, the “Devil’s Highway.” Three years later\, Luis Alberto Urrea wrote about what happened to them. The result was a national bestseller\, a Pulitzer Prize finalist\, a “book of the year” in multiple newspapers\, and a work proclaimed as a modern American classic. Join us to discuss the tale and the telling\, Thursday\, September 29th\, at 5PM.
URL:https://stignacelibrary.org/event/book-club-2/
CATEGORIES:Adult
END:VEVENT
BEGIN:VEVENT
DTSTART;TZID=America/New_York:20220928T170000
DTEND;TZID=America/New_York:20220928T200000
DTSTAMP:20260420T033650
CREATED:20220902T155635Z
LAST-MODIFIED:20220902T155635Z
UID:5474-1664384400-1664395200@stignacelibrary.org
SUMMARY:Private
DESCRIPTION:
URL:https://stignacelibrary.org/event/private-6/
END:VEVENT
BEGIN:VEVENT
DTSTART;TZID=America/New_York:20220926T170000
DTEND;TZID=America/New_York:20220926T180000
DTSTAMP:20260420T033650
CREATED:20220713T160059Z
LAST-MODIFIED:20220713T160108Z
UID:5365-1664211600-1664215200@stignacelibrary.org
SUMMARY:Seed Saving 101
DESCRIPTION:As an author\, herbalist and educator Bevin offers lectures and workshops across the country teaching about the many benefits of locally grown and wild harvested plants\, seed saving\, oil production\, and much more! Plan to learn how to collect and save your own seeds for next year’s bounty\, in the Community Room.
URL:https://stignacelibrary.org/event/seed-saving-101/
LOCATION:St. Ignace Public Library\, 110 W Spruce St\, St. Igance\, MI\, 49781\, United States
CATEGORIES:Adult,Teen
END:VEVENT
BEGIN:VEVENT
DTSTART;TZID=America/New_York:20220920T103000
DTEND;TZID=America/New_York:20220920T113000
DTSTAMP:20260420T033650
CREATED:20220202T200402Z
LAST-MODIFIED:20220202T200402Z
UID:5037-1663669800-1663673400@stignacelibrary.org
SUMMARY:Toddler Talk & Play
DESCRIPTION:Join us for a fun\, play-based program for toddlers and preschoolers where they explore the materials provided while connecting with other children/families. Open to children ages 1 year to 5 years. Parents/caregivers are encourage to follow their lead and explore as well.
URL:https://stignacelibrary.org/event/toddler-talk-play-25/
LOCATION:St. Ignace Public Library\, 110 W Spruce St\, St. Igance\, MI\, 49781\, United States
CATEGORIES:Children's Program
END:VEVENT
BEGIN:VEVENT
DTSTART;TZID=America/New_York:20220917T110000
DTEND;TZID=America/New_York:20220917T150000
DTSTAMP:20260420T033650
CREATED:20220816T151841Z
LAST-MODIFIED:20220816T151841Z
UID:5424-1663412400-1663426800@stignacelibrary.org
SUMMARY:Private
DESCRIPTION:
URL:https://stignacelibrary.org/event/private-4/
END:VEVENT
BEGIN:VEVENT
DTSTART;TZID=America/New_York:20220914T170000
DTEND;TZID=America/New_York:20220914T183000
DTSTAMP:20260420T033650
CREATED:20220111T214611Z
LAST-MODIFIED:20220111T214611Z
UID:4962-1663174800-1663180200@stignacelibrary.org
SUMMARY:Knit & Crochet Club
DESCRIPTION:Bring a project\, an idea\, or a desire to learn! Don’t worry about pace\, our club is for all levels. \nThe library will provide some of these materials to practice with if you don’t have your own. No registration is required.
URL:https://stignacelibrary.org/event/knit-crochet-club-8/
LOCATION:St. Ignace Public Library\, 110 W Spruce St\, St. Igance\, MI\, 49781\, United States
CATEGORIES:Adult,School Age,Teen,Tween
END:VEVENT
BEGIN:VEVENT
DTSTART;TZID=America/New_York:20220913T190000
DTEND;TZID=America/New_York:20220913T203000
DTSTAMP:20260420T033650
CREATED:20220819T204959Z
LAST-MODIFIED:20220819T204959Z
UID:5434-1663095600-1663101000@stignacelibrary.org
SUMMARY:Holocaust Survivor\, Irene Miller
DESCRIPTION:Irene Miller\, a Holocaust survivor\, will take you on a survival journey little written and known about. You will sleep in the winter under an open sky on the no man’s land; you will freeze in a Siberian labor camp where the bears come to your door front. In Uzbekistan\, you will live on boiled grass or broiled onions\, and shiver with malaria. You will spend years in orphanages. When this is over you will wonder how a child with this background grows up to become a positive\, creative\, accomplished woman with a joy of living and love to share.
URL:https://stignacelibrary.org/event/holocaust-survivor-irene-miller/
LOCATION:St. Ignace Public Library\, 110 W Spruce St\, St. Igance\, MI\, 49781\, United States
CATEGORIES:Adult,School Age,Teen,Tween
END:VEVENT
END:VCALENDAR