BEGIN:VCALENDAR
VERSION:2.0
PRODID:-//St. Ignace Public Library - ECPv6.15.20//NONSGML v1.0//EN
CALSCALE:GREGORIAN
METHOD:PUBLISH
X-WR-CALNAME:St. Ignace Public Library
X-ORIGINAL-URL:https://stignacelibrary.org
X-WR-CALDESC:Events for St. Ignace Public Library
REFRESH-INTERVAL;VALUE=DURATION:PT1H
X-Robots-Tag:noindex
X-PUBLISHED-TTL:PT1H
BEGIN:VTIMEZONE
TZID:America/New_York
BEGIN:DAYLIGHT
TZOFFSETFROM:-0500
TZOFFSETTO:-0400
TZNAME:EDT
DTSTART:20210314T070000
END:DAYLIGHT
BEGIN:STANDARD
TZOFFSETFROM:-0400
TZOFFSETTO:-0500
TZNAME:EST
DTSTART:20211107T060000
END:STANDARD
BEGIN:DAYLIGHT
TZOFFSETFROM:-0500
TZOFFSETTO:-0400
TZNAME:EDT
DTSTART:20220313T070000
END:DAYLIGHT
BEGIN:STANDARD
TZOFFSETFROM:-0400
TZOFFSETTO:-0500
TZNAME:EST
DTSTART:20221106T060000
END:STANDARD
BEGIN:DAYLIGHT
TZOFFSETFROM:-0500
TZOFFSETTO:-0400
TZNAME:EDT
DTSTART:20230312T070000
END:DAYLIGHT
BEGIN:STANDARD
TZOFFSETFROM:-0400
TZOFFSETTO:-0500
TZNAME:EST
DTSTART:20231105T060000
END:STANDARD
END:VTIMEZONE
BEGIN:VEVENT
DTSTART;TZID=America/New_York:20220713T180000
DTEND;TZID=America/New_York:20220713T190000
DTSTAMP:20260420T181758
CREATED:20220630T170626Z
LAST-MODIFIED:20220630T172510Z
UID:5295-1657735200-1657738800@stignacelibrary.org
SUMMARY:Save Our Oceans\, Live Animal Event
DESCRIPTION:In this program\, we explain the links between ocean and land animals. The importance of protecting our ecosystems is explained in this fascinating program which features a variety of live animals.
URL:https://stignacelibrary.org/event/save-our-oceans-live-animal-event/
LOCATION:St. Ignace Public Library\, 110 W Spruce St\, St. Igance\, MI\, 49781\, United States
CATEGORIES:Children's Program,Family
END:VEVENT
BEGIN:VEVENT
DTSTART;TZID=America/New_York:20220713T170000
DTEND;TZID=America/New_York:20220713T183000
DTSTAMP:20260420T181758
CREATED:20220111T214409Z
LAST-MODIFIED:20220111T214409Z
UID:4958-1657731600-1657737000@stignacelibrary.org
SUMMARY:Knit &  Crochet Club
DESCRIPTION:Bring a project\, an idea\, or a desire to learn! Don’t worry about pace\, our club is for all levels. \nThe library will provide some of these materials to practice with if you don’t have your own. No registration is required.
URL:https://stignacelibrary.org/event/knit-crochet-club-6/
LOCATION:St. Ignace Public Library\, 110 W Spruce St\, St. Igance\, MI\, 49781\, United States
CATEGORIES:Adult,School Age,Teen,Tween
END:VEVENT
BEGIN:VEVENT
DTSTART;TZID=America/New_York:20220712T170000
DTEND;TZID=America/New_York:20220712T180000
DTSTAMP:20260420T181758
CREATED:20220217T204158Z
LAST-MODIFIED:20220217T204158Z
UID:5100-1657645200-1657648800@stignacelibrary.org
SUMMARY:Library Board Meeting
DESCRIPTION:The St. Ignace Public Library Board meets the second Tuesday of each month at 5:00 pm in the community room of the library. The public is welcome to attend and participate in the meeting during public comment.
URL:https://stignacelibrary.org/event/library-board-meeting-7/
LOCATION:St. Ignace Public Library\, 110 W Spruce St\, St. Igance\, MI\, 49781\, United States
END:VEVENT
BEGIN:VEVENT
DTSTART;TZID=America/New_York:20220712T103000
DTEND;TZID=America/New_York:20220712T113000
DTSTAMP:20260420T181758
CREATED:20220202T200054Z
LAST-MODIFIED:20220202T200054Z
UID:5027-1657621800-1657625400@stignacelibrary.org
SUMMARY:Toddler Talk & Play
DESCRIPTION:Join us for a fun\, play-based program for toddlers and preschoolers where they explore the materials provided while connecting with other children/families. Open to children ages 1 year to 5 years. Parents/caregivers are encourage to follow their lead and explore as well.
URL:https://stignacelibrary.org/event/toddler-talk-play-20/
LOCATION:St. Ignace Public Library\, 110 W Spruce St\, St. Igance\, MI\, 49781\, United States
CATEGORIES:Children's Program
END:VEVENT
BEGIN:VEVENT
DTSTART;TZID=America/New_York:20220708T130000
DTEND;TZID=America/New_York:20220708T140000
DTSTAMP:20260420T181758
CREATED:20220315T200011Z
LAST-MODIFIED:20220315T200011Z
UID:5155-1657285200-1657288800@stignacelibrary.org
SUMMARY:Children's Concert ft. Troy Graham
DESCRIPTION:Join us for an afternoon of moving and grooving with Troy Graham.
URL:https://stignacelibrary.org/event/childrens-concert-ft-troy-graham/
LOCATION:St. Ignace Public Library\, 110 W Spruce St\, St. Igance\, MI\, 49781\, United States
CATEGORIES:Children's Program,School Age,Teen,Tween
END:VEVENT
BEGIN:VEVENT
DTSTART;TZID=America/New_York:20220708T103000
DTEND;TZID=America/New_York:20220708T233000
DTSTAMP:20260420T181758
CREATED:20220706T205055Z
LAST-MODIFIED:20220706T205055Z
UID:5332-1657276200-1657323000@stignacelibrary.org
SUMMARY:Story Time
DESCRIPTION:Come in for a story\, a craft or activity\, and plenty of time to discover the magic of books! For children 2 and up\, and their families. Every Friday at 10:30. No registration is required.
URL:https://stignacelibrary.org/event/story-time/
LOCATION:St. Ignace Public Library\, 110 W Spruce St\, St. Igance\, MI\, 49781\, United States
CATEGORIES:Children's Program,Family
END:VEVENT
BEGIN:VEVENT
DTSTART;TZID=America/New_York:20220707T150000
DTEND;TZID=America/New_York:20220707T160000
DTSTAMP:20260420T181758
CREATED:20220111T215350Z
LAST-MODIFIED:20220701T200743Z
UID:4976-1657206000-1657209600@stignacelibrary.org
SUMMARY:LEGO Club
DESCRIPTION:The library will provide the LEGOs\, you provide the imagination.\n \nLEGO Club is open to anyone interested\, there is no need to sign up. You can work on your own creation or follow one of the building challenges provided.\n \nIf you have any LEGOs to spare\, please consider donating them to the LEGO club.\n \nThank you to the Friends of the Library for their generous purchase of LEGO bricks for this club.
URL:https://stignacelibrary.org/event/lego-club-23/
LOCATION:St. Ignace Public Library\, 110 W Spruce St\, St. Igance\, MI\, 49781\, United States
CATEGORIES:Children's Program,School Age,Teen,Tween
END:VEVENT
BEGIN:VEVENT
DTSTART;TZID=America/New_York:20220630T150000
DTEND;TZID=America/New_York:20220630T160000
DTSTAMP:20260420T181758
CREATED:20220111T215214Z
LAST-MODIFIED:20220526T181135Z
UID:4974-1656601200-1656604800@stignacelibrary.org
SUMMARY:LEGO Club
DESCRIPTION:The library will provide the LEGOs\, you provide the imagination.\n \nLEGO Club is open to anyone interested\, there is no need to sign up. You can work on your own creation or follow one of the building challenges provided.\n \nIf you have any LEGOs to spare\, please consider donating them to the LEGO club.\n \nThank you to the Friends of the Library for their generous purchase of LEGOS for this club.
URL:https://stignacelibrary.org/event/lego-club-22/
LOCATION:St. Ignace Public Library\, 110 W Spruce St\, St. Igance\, MI\, 49781\, United States
CATEGORIES:Children's Program,School Age,Teen,Tween
END:VEVENT
BEGIN:VEVENT
DTSTART;TZID=America/New_York:20220628T103000
DTEND;TZID=America/New_York:20220628T113000
DTSTAMP:20260420T181758
CREATED:20220202T195917Z
LAST-MODIFIED:20220202T195917Z
UID:5025-1656412200-1656415800@stignacelibrary.org
SUMMARY:Toddler Talk & Play
DESCRIPTION:Join us for a fun\, play-based program for toddlers and preschoolers where they explore the materials provided while connecting with other children/families. Open to children ages 1 year to 5 years. Parents/caregivers are encourage to follow their lead and explore as well.
URL:https://stignacelibrary.org/event/toddler-talk-play-19/
LOCATION:St. Ignace Public Library\, 110 W Spruce St\, St. Igance\, MI\, 49781\, United States
CATEGORIES:Children's Program
END:VEVENT
BEGIN:VEVENT
DTSTART;VALUE=DATE:20220626
DTEND;VALUE=DATE:20220627
DTSTAMP:20260420T181758
CREATED:20211006T194722Z
LAST-MODIFIED:20211006T194722Z
UID:4753-1656201600-1656287999@stignacelibrary.org
SUMMARY:Library Closed
DESCRIPTION:The library will be closed all day.
URL:https://stignacelibrary.org/event/library-closed-10/
END:VEVENT
BEGIN:VEVENT
DTSTART;TZID=America/New_York:20220622T170000
DTEND;TZID=America/New_York:20220622T183000
DTSTAMP:20260420T181758
CREATED:20220621T173131Z
LAST-MODIFIED:20220621T173131Z
UID:5259-1655917200-1655922600@stignacelibrary.org
SUMMARY:Board Meeting Announcement
DESCRIPTION:The St. Ignace Library Board of Trustees will hold a special meeting Wednesday June 22nd at 5PM. Topics covered: Approve payment of the bills; finalize the director’s contract; other items as needed.
URL:https://stignacelibrary.org/event/board-meeting-announcement/
CATEGORIES:Board of Trustees
END:VEVENT
BEGIN:VEVENT
DTSTART;TZID=America/New_York:20220616T150000
DTEND;TZID=America/New_York:20220616T160000
DTSTAMP:20260420T181758
CREATED:20220111T215142Z
LAST-MODIFIED:20220526T181303Z
UID:4972-1655391600-1655395200@stignacelibrary.org
SUMMARY:LEGO Club
DESCRIPTION:The library will provide the LEGOs\, you provide the imagination.\n \nLEGO Club is open to anyone interested\, there is no need to sign up. You can work on your own creation or follow one of the building challenges provided.\n \nIf you have any LEGOs to spare\, please consider donating them to the LEGO club.\n \nThank you to the Friends of the Library for their generous purchase of LEGOS for this club.
URL:https://stignacelibrary.org/event/lego-club-21/
LOCATION:St. Ignace Public Library\, 110 W Spruce St\, St. Igance\, MI\, 49781\, United States
CATEGORIES:Children's Program,School Age,Teen,Tween
END:VEVENT
BEGIN:VEVENT
DTSTART;TZID=America/New_York:20220614T170000
DTEND;TZID=America/New_York:20220614T180000
DTSTAMP:20260420T181758
CREATED:20220217T204130Z
LAST-MODIFIED:20220217T204130Z
UID:5098-1655226000-1655229600@stignacelibrary.org
SUMMARY:Library Board Meeting
DESCRIPTION:The St. Ignace Public Library Board meets the second Tuesday of each month at 5:00 pm in the community room of the library. The public is welcome to attend and participate in the meeting during public comment.
URL:https://stignacelibrary.org/event/library-board-meeting-6/
LOCATION:St. Ignace Public Library\, 110 W Spruce St\, St. Igance\, MI\, 49781\, United States
END:VEVENT
BEGIN:VEVENT
DTSTART;TZID=America/New_York:20220614T103000
DTEND;TZID=America/New_York:20220614T113000
DTSTAMP:20260420T181758
CREATED:20220202T195837Z
LAST-MODIFIED:20220202T195837Z
UID:5023-1655202600-1655206200@stignacelibrary.org
SUMMARY:Toddler Talk & Play
DESCRIPTION:Join us for a fun\, play-based program for toddlers and preschoolers where they explore the materials provided while connecting with other children/families. Open to children ages 1 year to 5 years. Parents/caregivers are encourage to follow their lead and explore as well.
URL:https://stignacelibrary.org/event/toddler-talk-play-18/
LOCATION:St. Ignace Public Library\, 110 W Spruce St\, St. Igance\, MI\, 49781\, United States
CATEGORIES:Children's Program
END:VEVENT
BEGIN:VEVENT
DTSTART;TZID=America/New_York:20220611T110000
DTEND;TZID=America/New_York:20220611T120000
DTSTAMP:20260420T181758
CREATED:20220315T195853Z
LAST-MODIFIED:20220315T195853Z
UID:5153-1654945200-1654948800@stignacelibrary.org
SUMMARY:Bee Amazed at the Amazing Life of the Honey Bee
DESCRIPTION:Through an entertaining honey bee educational seminar\, the audience will: \n\nLearn about the three types of bees in a hive and their respective roles.\nUnderstand how bees find nectar and process it into honey.\nRealize how honey is harvested.\nLearn of the nutritious and medicinal qualities of honey.\nDiscover the uses for beeswax.\nParticipate in a question and answer session.\n\nAfter the presentation\, at three stations\, the audience will: \n\nExamine live bees in an observation hive.\nTaste honey from our hives.\nCraft a hand rolled beeswax candle. Limited to 100 candle makers per presentation
URL:https://stignacelibrary.org/event/bee-amazed-at-the-amazing-life-of-the-honey-bee/
LOCATION:St. Ignace Public Library\, 110 W Spruce St\, St. Igance\, MI\, 49781\, United States
CATEGORIES:Adult,School Age,Teen,Tween
END:VEVENT
BEGIN:VEVENT
DTSTART;TZID=America/New_York:20220608T170000
DTEND;TZID=America/New_York:20220608T183000
DTSTAMP:20260420T181758
CREATED:20220111T214336Z
LAST-MODIFIED:20220111T214336Z
UID:4956-1654707600-1654713000@stignacelibrary.org
SUMMARY:Knit & Crochet Club
DESCRIPTION:Bring a project\, an idea\, or a desire to learn! Don’t worry about pace\, our club is for all levels. \nThe library will provide some of these materials to practice with if you don’t have your own. No registration is required.
URL:https://stignacelibrary.org/event/knit-crochet-club-5/
LOCATION:St. Ignace Public Library\, 110 W Spruce St\, St. Igance\, MI\, 49781\, United States
CATEGORIES:Adult,School Age,Teen,Tween
END:VEVENT
BEGIN:VEVENT
DTSTART;TZID=America/New_York:20220607T180000
DTEND;TZID=America/New_York:20220607T190000
DTSTAMP:20260420T181758
CREATED:20220526T171334Z
LAST-MODIFIED:20220526T171334Z
UID:5227-1654624800-1654628400@stignacelibrary.org
SUMMARY:Bath School House Disaster Presentation
DESCRIPTION:When people talk of violence in a school setting\, most people think of places like Columbine High School in Littleton\, Colorado\, where two teens went on a shooting spree in 1999. Michael Moore’s film\, Bowling for Columbine\, used this tragedy to discuss guns in America. In a presentation Moore made about this film\, he challenged his Michigan audience by saying\, “but I bet not one of you remember the Bath School House disaster\, do you?” noting that more people died in the Bath disaster than at Columbine. George Robson presents this program of historical and current relevance.
URL:https://stignacelibrary.org/event/bath-school-house-disaster-presentation/
LOCATION:St. Ignace Public Library\, 110 W Spruce St\, St. Igance\, MI\, 49781\, United States
END:VEVENT
BEGIN:VEVENT
DTSTART;TZID=America/New_York:20220601T150000
DTEND;TZID=America/New_York:20220601T160000
DTSTAMP:20260420T181758
CREATED:20220111T215109Z
LAST-MODIFIED:20220111T215109Z
UID:4970-1654095600-1654099200@stignacelibrary.org
SUMMARY:LEGO Club
DESCRIPTION:The library will provide the LEGOs\, you provide the imagination.\n \nLEGO Club is open to anyone interested\, there is no need to sign up. You can work on your own creation or follow one of the building challenges provided.\n \nIf you have any LEGOs to spare\, please consider donating them to the LEGO club.\n \nThank you to the Friends of the Library for their generous purchase of LEGOS for this club.
URL:https://stignacelibrary.org/event/lego-club-20/
LOCATION:St. Ignace Public Library\, 110 W Spruce St\, St. Igance\, MI\, 49781\, United States
CATEGORIES:Children's Program,School Age,Teen,Tween
END:VEVENT
BEGIN:VEVENT
DTSTART;TZID=America/New_York:20220531T103000
DTEND;TZID=America/New_York:20220531T113000
DTSTAMP:20260420T181758
CREATED:20220202T195749Z
LAST-MODIFIED:20220202T195749Z
UID:5021-1653993000-1653996600@stignacelibrary.org
SUMMARY:Toddler Talk & Play
DESCRIPTION:Join us for a fun\, play-based program for toddlers and preschoolers where they explore the materials provided while connecting with other children/families. Open to children ages 1 year to 5 years. Parents/caregivers are encourage to follow their lead and explore as well.
URL:https://stignacelibrary.org/event/toddler-talk-play-17/
LOCATION:St. Ignace Public Library\, 110 W Spruce St\, St. Igance\, MI\, 49781\, United States
CATEGORIES:Children's Program
END:VEVENT
BEGIN:VEVENT
DTSTART;VALUE=DATE:20220530
DTEND;VALUE=DATE:20220531
DTSTAMP:20260420T181758
CREATED:20220525T171639Z
LAST-MODIFIED:20220525T171639Z
UID:5219-1653868800-1653955199@stignacelibrary.org
SUMMARY:Memorial Day
DESCRIPTION:The library will be closed in observance of Memorial Day.
URL:https://stignacelibrary.org/event/memorial-day/
LOCATION:St. Ignace Public Library\, 110 W Spruce St\, St. Igance\, MI\, 49781\, United States
END:VEVENT
BEGIN:VEVENT
DTSTART;VALUE=DATE:20220528
DTEND;VALUE=DATE:20220529
DTSTAMP:20260420T181758
CREATED:20220525T171300Z
LAST-MODIFIED:20220525T171300Z
UID:5217-1653696000-1653782399@stignacelibrary.org
SUMMARY:Library Closed
DESCRIPTION:The Library will be closed for the holiday weekend.
URL:https://stignacelibrary.org/event/library-closed-18/
LOCATION:St. Ignace Public Library\, 110 W Spruce St\, St. Igance\, MI\, 49781\, United States
END:VEVENT
BEGIN:VEVENT
DTSTART;TZID=America/New_York:20220519T170000
DTEND;TZID=America/New_York:20220519T180000
DTSTAMP:20260420T181758
CREATED:20220321T191035Z
LAST-MODIFIED:20220321T191035Z
UID:5169-1652979600-1652983200@stignacelibrary.org
SUMMARY:Adult Book Club
DESCRIPTION:Join us on Thursday\, May 19\, at 5:15 PM in discussing “No One is Talking About This by Patricia Lockwood. Copies of this book may be picked up at the circulation desk starting April 1. \n“a woman who has recently been elevated to prominence for her social media posts travels around the world to meet her adoring fans. She is overwhelmed by navigating the new language and etiquette of what she terms “the portal\,” where she grapples with an unshakable conviction that a vast chorus of voices is now dictating her thoughts. When existential threats—from climate change and economic precariousness to the rise of an unnamed dictator and an epidemic of loneliness—begin to loom\, she posts her way deeper into the portal’s void. An avalanche of images\, details\, and references accumulate to form a landscape that is post-sense\, post-irony\, post-everything. “Are we in hell?” the people of the portal ask themselves. “Are we all just going to keep doing this until we die?” \nSuddenly\, two texts from her mother pierce the fray: “Something has gone wrong\,” and “How soon can you get here?” As real life and its stakes collide with the increasingly absurd antics of the portal\, the woman confronts a world that seems to contain both an abundance of proof that there is goodness\, empathy\, and justice in the universe\, and a deluge of evidence to the contrary.“
URL:https://stignacelibrary.org/event/adult-book-club-6/
LOCATION:St. Ignace Public Library\, 110 W Spruce St\, St. Igance\, MI\, 49781\, United States
CATEGORIES:Adult
END:VEVENT
BEGIN:VEVENT
DTSTART;TZID=America/New_York:20220519T150000
DTEND;TZID=America/New_York:20220519T160000
DTSTAMP:20260420T181758
CREATED:20220103T193205Z
LAST-MODIFIED:20220103T193205Z
UID:4909-1652972400-1652976000@stignacelibrary.org
SUMMARY:LEGO Club
DESCRIPTION:The library will provide the LEGOs\, you provide the imagination.\n \nLEGO Club is open to anyone interested\, there is no need to sign up. You can work on your own creation or follow one of the building challenges provided.\n \nIf you have any LEGOs to spare\, please consider donating them to the LEGO club.\n \nThank you to the Friends of the Library for their generous purchase of LEGOS for this club.
URL:https://stignacelibrary.org/event/lego-club-19/
LOCATION:St. Ignace Public Library\, 110 W Spruce St\, St. Igance\, MI\, 49781\, United States
CATEGORIES:Children's Program,School Age,Teen,Tween
END:VEVENT
BEGIN:VEVENT
DTSTART;TZID=America/New_York:20220517T103000
DTEND;TZID=America/New_York:20220517T113000
DTSTAMP:20260420T181758
CREATED:20220202T195616Z
LAST-MODIFIED:20220202T195616Z
UID:5019-1652783400-1652787000@stignacelibrary.org
SUMMARY:Toddler Talk & Play
DESCRIPTION:Join us for a fun\, play-based program for toddlers and preschoolers where they explore the materials provided while connecting with other children/families. Open to children ages 1 year to 5 years. Parents/caregivers are encourage to follow their lead and explore as well.
URL:https://stignacelibrary.org/event/toddler-talk-play-16/
LOCATION:St. Ignace Public Library\, 110 W Spruce St\, St. Igance\, MI\, 49781\, United States
CATEGORIES:Children's Program
END:VEVENT
BEGIN:VEVENT
DTSTART;TZID=America/New_York:20220511T180000
DTEND;TZID=America/New_York:20220511T190000
DTSTAMP:20260420T181758
CREATED:20220325T162603Z
LAST-MODIFIED:20220325T162603Z
UID:5181-1652292000-1652295600@stignacelibrary.org
SUMMARY:Morel Mushroom Seminar- Pickin' with the Champ
DESCRIPTION:Whether you are a seasoned pro or a first time picker\, you are bound to find a new perspective to gathering the illusive morel with this informative seminar with Anthony Williams- a National Morel Hunting Champion. Hear stories spanning over 70 years of hunting morel mushrooms\, helpful tips and tricks to finding morels\, and gain more insight on this delicious fungi!
URL:https://stignacelibrary.org/event/morel-mushroom-seminar-pickin-with-the-champ/
LOCATION:St. Ignace Public Library\, 110 W Spruce St\, St. Igance\, MI\, 49781\, United States
CATEGORIES:Adult
END:VEVENT
BEGIN:VEVENT
DTSTART;TZID=America/New_York:20220511T170000
DTEND;TZID=America/New_York:20220511T183000
DTSTAMP:20260420T181758
CREATED:20220111T214221Z
LAST-MODIFIED:20220111T214221Z
UID:4954-1652288400-1652293800@stignacelibrary.org
SUMMARY:Knit & Crochet Club
DESCRIPTION:Bring a project\, an idea\, or a desire to learn! Don’t worry about pace\, our club is for all levels. \nThe library will provide some of these materials to practice with if you don’t have your own. No registration is required.
URL:https://stignacelibrary.org/event/knit-crochet-club-4/
LOCATION:St. Ignace Public Library\, 110 W Spruce St\, St. Igance\, MI\, 49781\, United States
CATEGORIES:Adult,School Age,Teen,Tween
END:VEVENT
BEGIN:VEVENT
DTSTART;TZID=America/New_York:20220510T170000
DTEND;TZID=America/New_York:20220510T180000
DTSTAMP:20260420T181758
CREATED:20220217T204057Z
LAST-MODIFIED:20220217T204057Z
UID:5096-1652202000-1652205600@stignacelibrary.org
SUMMARY:Library Board Meeting
DESCRIPTION:The St. Ignace Public Library Board meets the second Tuesday of each month at 5:00 pm in the community room of the library. The public is welcome to attend and participate in the meeting during public comment.
URL:https://stignacelibrary.org/event/library-board-meeting-5/
LOCATION:St. Ignace Public Library\, 110 W Spruce St\, St. Igance\, MI\, 49781\, United States
END:VEVENT
BEGIN:VEVENT
DTSTART;VALUE=DATE:20220507
DTEND;VALUE=DATE:20220508
DTSTAMP:20260420T181758
CREATED:20220423T173200Z
LAST-MODIFIED:20220423T173200Z
UID:5199-1651881600-1651967999@stignacelibrary.org
SUMMARY:Friends of the Library Book Sale
DESCRIPTION:The Friends of the Library Book Sale will take place in the St. Ignace Public Library Community Room on Friday\, May 6\, and Saturday\, May 7.\n \nThis book sale directly supports the Friends of the Library who in turn pay for library programs\, new technology\, craft supplies\, books\, and so much more.
URL:https://stignacelibrary.org/event/friends-of-the-library-book-sale-4/
END:VEVENT
BEGIN:VEVENT
DTSTART;TZID=America/New_York:20220506T103000
DTEND;TZID=America/New_York:20220506T110000
DTSTAMP:20260420T181758
CREATED:20220217T210105Z
LAST-MODIFIED:20220217T210105Z
UID:5125-1651833000-1651834800@stignacelibrary.org
SUMMARY:Toddler Storytime
DESCRIPTION:Join us for an interactive storytime and themed crafts in the Children’s Section on Friday’s at 10:30 AM.\n\n \nAges 2+\, but younger siblings are welcome to join.
URL:https://stignacelibrary.org/event/toddler-storytime-40/
LOCATION:St. Ignace Public Library\, 110 W Spruce St\, St. Igance\, MI\, 49781\, United States
CATEGORIES:Children's Program
END:VEVENT
BEGIN:VEVENT
DTSTART;VALUE=DATE:20220506
DTEND;VALUE=DATE:20220507
DTSTAMP:20260420T181758
CREATED:20220423T173135Z
LAST-MODIFIED:20220423T173135Z
UID:5197-1651795200-1651881599@stignacelibrary.org
SUMMARY:Friends of the Library Book Sale
DESCRIPTION:The Friends of the Library Book Sale will take place in the St. Ignace Public Library Community Room on Friday\, May 6\, and Saturday\, May 7.\n \nThis book sale directly supports the Friends of the Library who in turn pay for library programs\, new technology\, craft supplies\, books\, and so much more.
URL:https://stignacelibrary.org/event/friends-of-the-library-book-sale-3/
END:VEVENT
END:VCALENDAR