BEGIN:VCALENDAR
VERSION:2.0
PRODID:-//St. Ignace Public Library - ECPv6.15.20//NONSGML v1.0//EN
CALSCALE:GREGORIAN
METHOD:PUBLISH
X-WR-CALNAME:St. Ignace Public Library
X-ORIGINAL-URL:https://stignacelibrary.org
X-WR-CALDESC:Events for St. Ignace Public Library
REFRESH-INTERVAL;VALUE=DURATION:PT1H
X-Robots-Tag:noindex
X-PUBLISHED-TTL:PT1H
BEGIN:VTIMEZONE
TZID:America/New_York
BEGIN:DAYLIGHT
TZOFFSETFROM:-0500
TZOFFSETTO:-0400
TZNAME:EDT
DTSTART:20210314T070000
END:DAYLIGHT
BEGIN:STANDARD
TZOFFSETFROM:-0400
TZOFFSETTO:-0500
TZNAME:EST
DTSTART:20211107T060000
END:STANDARD
BEGIN:DAYLIGHT
TZOFFSETFROM:-0500
TZOFFSETTO:-0400
TZNAME:EDT
DTSTART:20220313T070000
END:DAYLIGHT
BEGIN:STANDARD
TZOFFSETFROM:-0400
TZOFFSETTO:-0500
TZNAME:EST
DTSTART:20221106T060000
END:STANDARD
BEGIN:DAYLIGHT
TZOFFSETFROM:-0500
TZOFFSETTO:-0400
TZNAME:EDT
DTSTART:20230312T070000
END:DAYLIGHT
BEGIN:STANDARD
TZOFFSETFROM:-0400
TZOFFSETTO:-0500
TZNAME:EST
DTSTART:20231105T060000
END:STANDARD
BEGIN:DAYLIGHT
TZOFFSETFROM:-0500
TZOFFSETTO:-0400
TZNAME:EDT
DTSTART:20240310T070000
END:DAYLIGHT
BEGIN:STANDARD
TZOFFSETFROM:-0400
TZOFFSETTO:-0500
TZNAME:EST
DTSTART:20241103T060000
END:STANDARD
END:VTIMEZONE
BEGIN:VEVENT
DTSTART;TZID=America/New_York:20230117T171500
DTEND;TZID=America/New_York:20230117T190000
DTSTAMP:20260420T035342
CREATED:20221207T193917Z
LAST-MODIFIED:20221207T193917Z
UID:5615-1673975700-1673982000@stignacelibrary.org
SUMMARY:Local Art Exhibit
DESCRIPTION: Enjoy hors d’oeuvers\, meet and greet with local artists\, and experience the beauty of their work.
URL:https://stignacelibrary.org/event/local-art-exhibit/
END:VEVENT
BEGIN:VEVENT
DTSTART;TZID=America/New_York:20230114T143000
DTEND;TZID=America/New_York:20230114T173000
DTSTAMP:20260420T035342
CREATED:20221207T190625Z
LAST-MODIFIED:20221207T190625Z
UID:5607-1673706600-1673717400@stignacelibrary.org
SUMMARY:100% Cocoa
DESCRIPTION: Join Mackinac County 4-H Program coordinator Stacy Abram for a taste journey\, exploring the history and facts about one of the world’s favorite flavors. Tasting included! Future 4-H leaders: This is a “teaching the teacher” class too!
URL:https://stignacelibrary.org/event/100-cocoa/
END:VEVENT
BEGIN:VEVENT
DTSTART;TZID=America/New_York:20230111T180000
DTEND;TZID=America/New_York:20230111T190000
DTSTAMP:20260420T035342
CREATED:20221227T192645Z
LAST-MODIFIED:20221227T192645Z
UID:5650-1673460000-1673463600@stignacelibrary.org
SUMMARY:Private
DESCRIPTION:
URL:https://stignacelibrary.org/event/private-14/
END:VEVENT
BEGIN:VEVENT
DTSTART;TZID=America/New_York:20230106T100000
DTEND;TZID=America/New_York:20230107T150000
DTSTAMP:20260420T035342
CREATED:20221207T202002Z
LAST-MODIFIED:20221207T202002Z
UID:5624-1672999200-1673103600@stignacelibrary.org
SUMMARY:Friends of the Library January Book Sale
DESCRIPTION: Pick up your next treasure\, open hours\, January 6th & 7th.
URL:https://stignacelibrary.org/event/friends-of-the-library-january-book-sale/
END:VEVENT
BEGIN:VEVENT
DTSTART;VALUE=DATE:20221231
DTEND;VALUE=DATE:20230101
DTSTAMP:20260420T035342
CREATED:20211006T195014Z
LAST-MODIFIED:20211006T195014Z
UID:4765-1672444800-1672531199@stignacelibrary.org
SUMMARY:Library Closed
DESCRIPTION:The library will be closed all day.
URL:https://stignacelibrary.org/event/library-closed-16/
END:VEVENT
BEGIN:VEVENT
DTSTART;TZID=America/New_York:20221227T103000
DTEND;TZID=America/New_York:20221227T113000
DTSTAMP:20260420T035342
CREATED:20220202T200759Z
LAST-MODIFIED:20220202T200759Z
UID:5051-1672137000-1672140600@stignacelibrary.org
SUMMARY:Toddler Talk & Play
DESCRIPTION:Join us for a fun\, play-based program for toddlers and preschoolers where they explore the materials provided while connecting with other children/families. Open to children ages 1 year to 5 years. Parents/caregivers are encourage to follow their lead and explore as well.
URL:https://stignacelibrary.org/event/toddler-talk-play-32/
LOCATION:St. Ignace Public Library\, 110 W Spruce St\, St. Igance\, MI\, 49781\, United States
CATEGORIES:Children's Program
END:VEVENT
BEGIN:VEVENT
DTSTART;TZID=America/New_York:20221227T100000
DTEND;TZID=America/New_York:20230102T170000
DTSTAMP:20260420T035342
CREATED:20221207T185444Z
LAST-MODIFIED:20221207T185444Z
UID:5604-1672135200-1672678800@stignacelibrary.org
SUMMARY:"Bored" Games
DESCRIPTION:Spend some time with one of the Library’s board games\, or bring in your own! Scrabble\, Monopoly\, Grandopoly\, Pandemic\, Mousetrap\, Uno\, Chess\, and more!
URL:https://stignacelibrary.org/event/bored-games/
END:VEVENT
BEGIN:VEVENT
DTSTART;VALUE=DATE:20221226
DTEND;VALUE=DATE:20221227
DTSTAMP:20260420T035342
CREATED:20211006T194947Z
LAST-MODIFIED:20211006T194947Z
UID:4763-1672012800-1672099199@stignacelibrary.org
SUMMARY:Library Closed
DESCRIPTION:The library will be closed all day.
URL:https://stignacelibrary.org/event/library-closed-15/
END:VEVENT
BEGIN:VEVENT
DTSTART;VALUE=DATE:20221224
DTEND;VALUE=DATE:20221225
DTSTAMP:20260420T035342
CREATED:20211006T194928Z
LAST-MODIFIED:20211006T194928Z
UID:4761-1671840000-1671926399@stignacelibrary.org
SUMMARY:Library Closed
DESCRIPTION:The library will be closed all day.
URL:https://stignacelibrary.org/event/library-closed-14/
END:VEVENT
BEGIN:VEVENT
DTSTART;TZID=America/New_York:20221217T110000
DTEND;TZID=America/New_York:20221217T120000
DTSTAMP:20260420T035342
CREATED:20221207T182141Z
LAST-MODIFIED:20221207T182141Z
UID:5600-1671274800-1671278400@stignacelibrary.org
SUMMARY:Gingerbread Houses
DESCRIPTION:Graham crackers come together to make a sweet holiday home! All supplies provided.
URL:https://stignacelibrary.org/event/gingerbread-houses/
CATEGORIES:Children's Program,Family,School Age
END:VEVENT
BEGIN:VEVENT
DTSTART;TZID=America/New_York:20221214T170000
DTEND;TZID=America/New_York:20221214T183000
DTSTAMP:20260420T035342
CREATED:20220111T214836Z
LAST-MODIFIED:20220111T214836Z
UID:4968-1671037200-1671042600@stignacelibrary.org
SUMMARY:Knit & Crochet Club
DESCRIPTION:Bring a project\, an idea\, or a desire to learn! Don’t worry about pace\, our club is for all levels. \nThe library will provide some of these materials to practice with if you don’t have your own. No registration is required.
URL:https://stignacelibrary.org/event/knit-crochet-club-11/
LOCATION:St. Ignace Public Library\, 110 W Spruce St\, St. Igance\, MI\, 49781\, United States
CATEGORIES:Adult,School Age,Teen,Tween
END:VEVENT
BEGIN:VEVENT
DTSTART;TZID=America/New_York:20221213T170000
DTEND;TZID=America/New_York:20221213T180000
DTSTAMP:20260420T035342
CREATED:20220217T204438Z
LAST-MODIFIED:20220217T204438Z
UID:5110-1670950800-1670954400@stignacelibrary.org
SUMMARY:Library Board Meeting
DESCRIPTION:The St. Ignace Public Library Board meets the second Tuesday of each month at 5:00 pm in the community room of the library. The public is welcome to attend and participate in the meeting during public comment.
URL:https://stignacelibrary.org/event/library-board-meeting-12/
LOCATION:St. Ignace Public Library\, 110 W Spruce St\, St. Igance\, MI\, 49781\, United States
END:VEVENT
BEGIN:VEVENT
DTSTART;TZID=America/New_York:20221213T103000
DTEND;TZID=America/New_York:20221213T113000
DTSTAMP:20260420T035342
CREATED:20220202T200727Z
LAST-MODIFIED:20220202T200727Z
UID:5049-1670927400-1670931000@stignacelibrary.org
SUMMARY:Toddler Talk & Play
DESCRIPTION:Join us for a fun\, play-based program for toddlers and preschoolers where they explore the materials provided while connecting with other children/families. Open to children ages 1 year to 5 years. Parents/caregivers are encourage to follow their lead and explore as well.
URL:https://stignacelibrary.org/event/toddler-talk-play-31/
LOCATION:St. Ignace Public Library\, 110 W Spruce St\, St. Igance\, MI\, 49781\, United States
CATEGORIES:Children's Program
END:VEVENT
BEGIN:VEVENT
DTSTART;TZID=America/New_York:20221212T163000
DTEND;TZID=America/New_York:20221212T173000
DTSTAMP:20260420T035342
CREATED:20221024T173101Z
LAST-MODIFIED:20221024T173101Z
UID:5555-1670862600-1670866200@stignacelibrary.org
SUMMARY:Private
DESCRIPTION:
URL:https://stignacelibrary.org/event/private-10/
END:VEVENT
BEGIN:VEVENT
DTSTART;TZID=America/New_York:20221209T103000
DTEND;TZID=America/New_York:20221209T233000
DTSTAMP:20260420T035342
CREATED:20221021T185235Z
LAST-MODIFIED:20221021T185235Z
UID:5548-1670581800-1670628600@stignacelibrary.org
SUMMARY:Story Hour
DESCRIPTION:Stories and activities for the littlest learners and their families\, ages 2-6 recommended.
URL:https://stignacelibrary.org/event/story-hour-6/
LOCATION:St. Ignace Public Library\, 110 W Spruce St\, St. Igance\, MI\, 49781\, United States
CATEGORIES:Children's Program,Family
END:VEVENT
BEGIN:VEVENT
DTSTART;TZID=America/New_York:20221202T103000
DTEND;TZID=America/New_York:20221202T233000
DTSTAMP:20260420T035342
CREATED:20221021T184916Z
LAST-MODIFIED:20221021T184916Z
UID:5546-1669977000-1670023800@stignacelibrary.org
SUMMARY:Story Hour
DESCRIPTION:Stories and activities for the littlest learners and their families\, ages 2-6 recommended.
URL:https://stignacelibrary.org/event/story-hour-5/
LOCATION:St. Ignace Public Library\, 110 W Spruce St\, St. Igance\, MI\, 49781\, United States
CATEGORIES:Children's Program,Family
END:VEVENT
BEGIN:VEVENT
DTSTART;TZID=America/New_York:20221130T183000
DTEND;TZID=America/New_York:20221130T200000
DTSTAMP:20260420T035342
CREATED:20221118T202254Z
LAST-MODIFIED:20221118T202738Z
UID:5576-1669833000-1669838400@stignacelibrary.org
SUMMARY:Arts Council
DESCRIPTION:
URL:https://stignacelibrary.org/event/arts-council/
END:VEVENT
BEGIN:VEVENT
DTSTART;TZID=America/New_York:20221129T103000
DTEND;TZID=America/New_York:20221129T113000
DTSTAMP:20260420T035342
CREATED:20220202T200637Z
LAST-MODIFIED:20220202T200637Z
UID:5047-1669717800-1669721400@stignacelibrary.org
SUMMARY:Toddler Talk & Play
DESCRIPTION:Join us for a fun\, play-based program for toddlers and preschoolers where they explore the materials provided while connecting with other children/families. Open to children ages 1 year to 5 years. Parents/caregivers are encourage to follow their lead and explore as well.
URL:https://stignacelibrary.org/event/toddler-talk-play-30/
LOCATION:St. Ignace Public Library\, 110 W Spruce St\, St. Igance\, MI\, 49781\, United States
CATEGORIES:Children's Program
END:VEVENT
BEGIN:VEVENT
DTSTART;TZID=America/New_York:20221129T100000
DTEND;TZID=America/New_York:20221129T130000
DTSTAMP:20260420T035342
CREATED:20221004T155512Z
LAST-MODIFIED:20221004T155512Z
UID:5516-1669716000-1669726800@stignacelibrary.org
SUMMARY:Private
DESCRIPTION:
URL:https://stignacelibrary.org/event/private-8/
END:VEVENT
BEGIN:VEVENT
DTSTART;TZID=America/New_York:20221128T110000
DTEND;TZID=America/New_York:20221128T130000
DTSTAMP:20260420T035342
CREATED:20221031T144515Z
LAST-MODIFIED:20221031T144515Z
UID:5559-1669633200-1669640400@stignacelibrary.org
SUMMARY:Private
DESCRIPTION:
URL:https://stignacelibrary.org/event/private-11/
END:VEVENT
BEGIN:VEVENT
DTSTART;VALUE=DATE:20221125
DTEND;VALUE=DATE:20221126
DTSTAMP:20260420T035342
CREATED:20211006T194851Z
LAST-MODIFIED:20211006T194851Z
UID:4759-1669334400-1669420799@stignacelibrary.org
SUMMARY:Library Closed
DESCRIPTION:The library will be closed all day.
URL:https://stignacelibrary.org/event/library-closed-13/
END:VEVENT
BEGIN:VEVENT
DTSTART;VALUE=DATE:20221124
DTEND;VALUE=DATE:20221125
DTSTAMP:20260420T035342
CREATED:20211006T194832Z
LAST-MODIFIED:20211006T194832Z
UID:4757-1669248000-1669334399@stignacelibrary.org
SUMMARY:Library Closed
DESCRIPTION:The library will be closed all day.
URL:https://stignacelibrary.org/event/library-closed-12/
END:VEVENT
BEGIN:VEVENT
DTSTART;TZID=America/New_York:20221118T103000
DTEND;TZID=America/New_York:20221118T233000
DTSTAMP:20260420T035342
CREATED:20221021T184755Z
LAST-MODIFIED:20221021T184755Z
UID:5544-1668767400-1668814200@stignacelibrary.org
SUMMARY:Story Hour
DESCRIPTION:Stories and activities for the littlest learners and their families\, ages 2-6 recommended.
URL:https://stignacelibrary.org/event/story-hour-4/
LOCATION:St. Ignace Public Library\, 110 W Spruce St\, St. Igance\, MI\, 49781\, United States
CATEGORIES:Children's Program,Family
END:VEVENT
BEGIN:VEVENT
DTSTART;TZID=America/New_York:20221115T103000
DTEND;TZID=America/New_York:20221115T113000
DTSTAMP:20260420T035342
CREATED:20220202T200609Z
LAST-MODIFIED:20220202T200609Z
UID:5045-1668508200-1668511800@stignacelibrary.org
SUMMARY:Toddler Talk & Play
DESCRIPTION:Join us for a fun\, play-based program for toddlers and preschoolers where they explore the materials provided while connecting with other children/families. Open to children ages 1 year to 5 years. Parents/caregivers are encourage to follow their lead and explore as well.
URL:https://stignacelibrary.org/event/toddler-talk-play-29/
LOCATION:St. Ignace Public Library\, 110 W Spruce St\, St. Igance\, MI\, 49781\, United States
CATEGORIES:Children's Program
END:VEVENT
BEGIN:VEVENT
DTSTART;TZID=America/New_York:20221111T103000
DTEND;TZID=America/New_York:20221111T233000
DTSTAMP:20260420T035342
CREATED:20221021T184538Z
LAST-MODIFIED:20221021T185811Z
UID:5542-1668162600-1668209400@stignacelibrary.org
SUMMARY:Story Hour
DESCRIPTION:Stories and activities for the littlest learners and their families\, ages 2-6 recommended.
URL:https://stignacelibrary.org/event/story-hour-3/
LOCATION:St. Ignace Public Library\, 110 W Spruce St\, St. Igance\, MI\, 49781\, United States
CATEGORIES:Children's Program,Family
END:VEVENT
BEGIN:VEVENT
DTSTART;TZID=America/New_York:20221109T170000
DTEND;TZID=America/New_York:20221109T183000
DTSTAMP:20260420T035342
CREATED:20220111T214805Z
LAST-MODIFIED:20220111T214805Z
UID:4966-1668013200-1668018600@stignacelibrary.org
SUMMARY:Knit & Crochet Club
DESCRIPTION:Bring a project\, an idea\, or a desire to learn! Don’t worry about pace\, our club is for all levels. \nThe library will provide some of these materials to practice with if you don’t have your own. No registration is required.
URL:https://stignacelibrary.org/event/knit-crochet-club-10/
LOCATION:St. Ignace Public Library\, 110 W Spruce St\, St. Igance\, MI\, 49781\, United States
CATEGORIES:Adult,School Age,Teen,Tween
END:VEVENT
BEGIN:VEVENT
DTSTART;TZID=America/New_York:20221108T170000
DTEND;TZID=America/New_York:20221108T180000
DTSTAMP:20260420T035342
CREATED:20220217T204406Z
LAST-MODIFIED:20220217T204406Z
UID:5108-1667926800-1667930400@stignacelibrary.org
SUMMARY:Library Board Meeting
DESCRIPTION:The St. Ignace Public Library Board meets the second Tuesday of each month at 5:00 pm in the community room of the library. The public is welcome to attend and participate in the meeting during public comment.
URL:https://stignacelibrary.org/event/library-board-meeting-11/
LOCATION:St. Ignace Public Library\, 110 W Spruce St\, St. Igance\, MI\, 49781\, United States
END:VEVENT
BEGIN:VEVENT
DTSTART;TZID=America/New_York:20221104T103000
DTEND;TZID=America/New_York:20221104T233000
DTSTAMP:20260420T035342
CREATED:20221021T183908Z
LAST-MODIFIED:20221021T185636Z
UID:5538-1667557800-1667604600@stignacelibrary.org
SUMMARY:Story Hour
DESCRIPTION:Stories and activities for the littlest learners and their families\, ages 2-6 recommended.
URL:https://stignacelibrary.org/event/story-hour/
LOCATION:St. Ignace Public Library\, 110 W Spruce St\, St. Igance\, MI\, 49781\, United States
CATEGORIES:Children's Program,Family
END:VEVENT
BEGIN:VEVENT
DTSTART;TZID=America/New_York:20221102T180000
DTEND;TZID=America/New_York:20221102T190000
DTSTAMP:20260420T035342
CREATED:20220713T154211Z
LAST-MODIFIED:20220713T154211Z
UID:5362-1667412000-1667415600@stignacelibrary.org
SUMMARY:Edmund Fitzgerald; The Stories\, The Song
DESCRIPTION:Author\, musician and performer Mike Fornes has performed for a decade at the Great Lakes Shipwreck Museum’s annual bell-tolling ceremony for the lost souls of the Edmund Fitzgerald at Whitefish Point\, Michigan. His interaction with surviving family members of the lost crewmen\, and Lightfoot himself\, generate many first-hand accounts of the tragedy and of how the iconic song was written. Mike shares those tales along with the famous song which documents the tragedy\, live at the library.
URL:https://stignacelibrary.org/event/edmund-fitzgerald-the-stories-the-song/
LOCATION:St. Ignace Public Library\, 110 W Spruce St\, St. Igance\, MI\, 49781\, United States
CATEGORIES:Adult
END:VEVENT
BEGIN:VEVENT
DTSTART;TZID=America/New_York:20221101T103000
DTEND;TZID=America/New_York:20221101T113000
DTSTAMP:20260420T035342
CREATED:20220202T200540Z
LAST-MODIFIED:20220202T200540Z
UID:5043-1667298600-1667302200@stignacelibrary.org
SUMMARY:Toddler Talk & Play
DESCRIPTION:Join us for a fun\, play-based program for toddlers and preschoolers where they explore the materials provided while connecting with other children/families. Open to children ages 1 year to 5 years. Parents/caregivers are encourage to follow their lead and explore as well.
URL:https://stignacelibrary.org/event/toddler-talk-play-28/
LOCATION:St. Ignace Public Library\, 110 W Spruce St\, St. Igance\, MI\, 49781\, United States
CATEGORIES:Children's Program
END:VEVENT
END:VCALENDAR