BEGIN:VCALENDAR
VERSION:2.0
PRODID:-//St. Ignace Public Library - ECPv6.15.20//NONSGML v1.0//EN
CALSCALE:GREGORIAN
METHOD:PUBLISH
X-WR-CALNAME:St. Ignace Public Library
X-ORIGINAL-URL:https://stignacelibrary.org
X-WR-CALDESC:Events for St. Ignace Public Library
REFRESH-INTERVAL;VALUE=DURATION:PT1H
X-Robots-Tag:noindex
X-PUBLISHED-TTL:PT1H
BEGIN:VTIMEZONE
TZID:America/New_York
BEGIN:DAYLIGHT
TZOFFSETFROM:-0500
TZOFFSETTO:-0400
TZNAME:EDT
DTSTART:20200308T070000
END:DAYLIGHT
BEGIN:STANDARD
TZOFFSETFROM:-0400
TZOFFSETTO:-0500
TZNAME:EST
DTSTART:20201101T060000
END:STANDARD
BEGIN:DAYLIGHT
TZOFFSETFROM:-0500
TZOFFSETTO:-0400
TZNAME:EDT
DTSTART:20210314T070000
END:DAYLIGHT
BEGIN:STANDARD
TZOFFSETFROM:-0400
TZOFFSETTO:-0500
TZNAME:EST
DTSTART:20211107T060000
END:STANDARD
BEGIN:DAYLIGHT
TZOFFSETFROM:-0500
TZOFFSETTO:-0400
TZNAME:EDT
DTSTART:20220313T070000
END:DAYLIGHT
BEGIN:STANDARD
TZOFFSETFROM:-0400
TZOFFSETTO:-0500
TZNAME:EST
DTSTART:20221106T060000
END:STANDARD
BEGIN:DAYLIGHT
TZOFFSETFROM:-0500
TZOFFSETTO:-0400
TZNAME:EDT
DTSTART:20230312T070000
END:DAYLIGHT
BEGIN:STANDARD
TZOFFSETFROM:-0400
TZOFFSETTO:-0500
TZNAME:EST
DTSTART:20231105T060000
END:STANDARD
END:VTIMEZONE
BEGIN:VEVENT
DTSTART;TZID=America/New_York:20220128T103000
DTEND;TZID=America/New_York:20220128T110000
DTSTAMP:20260421T084651
CREATED:20210825T183314Z
LAST-MODIFIED:20210825T183314Z
UID:4634-1643365800-1643367600@stignacelibrary.org
SUMMARY:Toddler Storytime
DESCRIPTION:Join us for an interactive storytime and themed crafts in the Children’s Section on Friday’s at 10:30 AM.\n\n \nAges 2+\, but younger siblings are welcome to join.
URL:https://stignacelibrary.org/event/toddler-storytime-25/
LOCATION:St. Ignace Public Library\, 110 W Spruce St\, St. Igance\, MI\, 49781\, United States
CATEGORIES:Children's Program
END:VEVENT
BEGIN:VEVENT
DTSTART;TZID=America/New_York:20220127T150000
DTEND;TZID=America/New_York:20220127T160000
DTSTAMP:20260421T084651
CREATED:20220103T190929Z
LAST-MODIFIED:20220103T190929Z
UID:4893-1643295600-1643299200@stignacelibrary.org
SUMMARY:LEGO Club
DESCRIPTION:The library will provide the LEGOs\, you provide the imagination.\n \nLEGO Club is open to anyone interested\, there is no need to sign up. You can work on your own creation or follow one of the building challenges provided.\n \nIf you have any LEGOs to spare\, please consider donating them to the LEGO club.\n \nThank you to the Friends of the Library for their generous purchase of LEGOS for this club.
URL:https://stignacelibrary.org/event/lego-club-11/
LOCATION:St. Ignace Public Library\, 110 W Spruce St\, St. Igance\, MI\, 49781\, United States
CATEGORIES:Children's Program,School Age,Teen,Tween
END:VEVENT
BEGIN:VEVENT
DTSTART;TZID=America/New_York:20220125T103000
DTEND;TZID=America/New_York:20220125T113000
DTSTAMP:20260421T084651
CREATED:20211005T150550Z
LAST-MODIFIED:20220103T162007Z
UID:4724-1643106600-1643110200@stignacelibrary.org
SUMMARY:Toddler Talk & Play
DESCRIPTION:Join us for a fun\, play-based program for toddlers and preschoolers where they explore the materials provided while connecting with other children/families. Open to children ages 1 year to 5 years. Parents/caregivers are encourage to follow their lead and explore as well.
URL:https://stignacelibrary.org/event/toddler-talk-play-9/
LOCATION:St. Ignace Public Library\, 110 W Spruce St\, St. Igance\, MI\, 49781\, United States
CATEGORIES:Children's Program
END:VEVENT
BEGIN:VEVENT
DTSTART;TZID=America/New_York:20220122T130000
DTEND;TZID=America/New_York:20220122T150000
DTSTAMP:20260421T084651
CREATED:20220112T170513Z
LAST-MODIFIED:20220112T171244Z
UID:4981-1642856400-1642863600@stignacelibrary.org
SUMMARY:Family Flicks
DESCRIPTION:Join us for a family friendly movie afternoon featuring Ron’s Gone Wrong.
URL:https://stignacelibrary.org/event/family-flicks/
LOCATION:St. Ignace Public Library\, 110 W Spruce St\, St. Igance\, MI\, 49781\, United States
CATEGORIES:Children's Program,School Age,Teen,Tween
END:VEVENT
BEGIN:VEVENT
DTSTART;TZID=America/New_York:20220121T103000
DTEND;TZID=America/New_York:20220121T110000
DTSTAMP:20260421T084651
CREATED:20210825T183201Z
LAST-MODIFIED:20210825T183201Z
UID:4632-1642761000-1642762800@stignacelibrary.org
SUMMARY:Toddler Storytime
DESCRIPTION:Join us for an interactive storytime and themed crafts in the Children’s Section on Friday’s at 10:30 AM.\n\n \nAges 2+\, but younger siblings are welcome to join.
URL:https://stignacelibrary.org/event/toddler-storytime-24/
LOCATION:St. Ignace Public Library\, 110 W Spruce St\, St. Igance\, MI\, 49781\, United States
CATEGORIES:Children's Program
END:VEVENT
BEGIN:VEVENT
DTSTART;TZID=America/New_York:20220120T171500
DTEND;TZID=America/New_York:20220120T180000
DTSTAMP:20260421T084651
CREATED:20211216T210918Z
LAST-MODIFIED:20211216T213416Z
UID:4867-1642698900-1642701600@stignacelibrary.org
SUMMARY:Adult Book Club- Great Michigan Read
DESCRIPTION:Join us on Thursday\, January 20\, at 5:15 PM in discussing the 2021-2022 Great Michigan Read\, “The Women of the Copper Country by Mary Doria Russell”. Stop by the library to pick up a copy that is yours to keep. \nIn July 1913\, twenty-five-year-old Annie Clements had seen enough of the world to know that it was unfair. She’s spent her whole life in the copper-mining town of Calumet\, Michigan where men risk their lives for meager salaries—and had barely enough to put food on the table and clothes on their backs. The women labor in the houses of the elite\, and send their husbands and sons deep underground each day\, dreading the fateful call of the company man telling them their loved ones aren’t coming home. When Annie decides to stand up for herself\, and the entire town of Calumet\, nearly everyone believes she may have taken on more than she is prepared to handle.\n \n“America’s Joan of Arc”—the courageous woman who started a rebellion by leading a strike against the largest copper mining company in the world. \nThe 2021-22 Great Michigan Read is presented by Michigan Humanities and supported by national\, statewide and local partners\, including the National Endowment for the Humanities\, The Meijer Foundation\, and Martin Waymire.
URL:https://stignacelibrary.org/event/adult-book-club-great-michigan-read/
LOCATION:St. Ignace Public Library\, 110 W Spruce St\, St. Igance\, MI\, 49781\, United States
CATEGORIES:Adult
END:VEVENT
BEGIN:VEVENT
DTSTART;TZID=America/New_York:20220118T171500
DTEND;TZID=America/New_York:20220118T200000
DTSTAMP:20260421T084651
CREATED:20220103T174720Z
LAST-MODIFIED:20220111T202746Z
UID:4883-1642526100-1642536000@stignacelibrary.org
SUMMARY:Local Artist Exhibit
DESCRIPTION:Join the library for an evening celebrating and showcasing local art on January 18 at 5:15 PM. Enjoy hors d’oeuvres\, meet & greet with our local artists\, and enjoy their wonderful art-perhaps take a piece or two home with you. \n\nCurrent artist line up\nJim Draze \nVeronica Danks Lozen \nAudrey Fick \nRobin Kissinger \nRuth LaChapelle \nTim LaJoice \nPaula McNamara \n\nMeet our Artists\nJim Draze\nA native of the U.P.\, the outdoors was my playground. A bicycle was my passport to lakes\, streams\, waterfalls\, woodlots\, and fishing. During my youth\, there was an “artistic itch” nagging at me\, but never scratched. In 2006\, seeing an end to my regular work life in Public Health\, I enrolled in an “after work internship” in metal arts design and fabrication in a Kalamazoo metal arts studio and smithery. After retirement\, I built my own backyard forge and smithery\, tried it for a year\, and found it too large and the outdoor environment was not conducive to year-round work. \nThen\, I discovered copper\, and moved my metal work indoors and went to work cutting\, pounding\, sawing\, forming\, and enameling copper. I started creating “designs from nature” that I learned to love as a boy. \nMy jewelry pieces now consist of enamel on copper pieces fabricated from salvaged (mostly) copper pipe and ground glass (the enamel)\, hand-crafted fine silver castings on hand-tooled copper\, and some precious stones set in sterling silver. I endeavor to stay true to my love for designs from nature and much of my work is in\, or on copper. \nI offer handcrafted jewerly: enamel on copper pendants and pins\, a variety of stones and precious gems set in silver or copper\, some beach glass pendants\, and some Petoskey stone pendants. \nI create my pendants and pins from raw materials\, cutting figures by hand and firing\, soldering\, etc.\, by hand. My work is currently offered for sale in the Michilimackinac Historic Society “Made in Michigan” Gift Shop. \nI am a happy resident of St. Ignace\, MI \nVeronica Danks Lozen\nI remember my first art class at age 4 and winning my first art show contest at age 5. I’ve always been drawn to color and how to recreate nature and images. I continued to grown and learn as the years went on switching my mediums constantly; pencil\, crayon\, watercolor\, acrylic\, chalk\, calligraphy\, ink\, metals\, pottery\, drafting\, geometry\, landscaping and carpentry. I see art and color in everything. I’ve recently begun using items from nature in my work in an effort to learn native plants. Lines and basic form with ink and acrylic are what I always go back to. It feels the most comfortable to me and allows me to express myself in my art. \nAudrey Fick\nAudrey J. Fick was born in Detroit and eventually moved to the Upper Peninsula in the late sixties. She obtained her BS Degree from Lake Superior State University in June of 2015. She has authored six novels of which five are published and the sixth is very close to being released. The books are entitled Corruption at Jamestown Prison 2010\, Who is Ellen Roquefort – 2012\, Murder in the Snows – 2018\, Revelation at the Snows – 2019\, Marquette Island\, View from the Snows – 2020 and currently The Constipated Elephant\, a Mystery at Pennington House. Audrey is the mother of six children\, eleven grandchildren and many great-grandchildren. She has written feature stories from time to time for The St. Ignace News also a fiction editor for the fifth edition of Border Crossing an international literary journal. Her book review of Mark Jacobs’ Forty Wolves was published in 2015 of Peace Corp Magazine. \nRuth LaChapelle\nI have been very blessed in that I was born and have lived my entire life in St. Ignace\, located in Michigan’s Upper Peninsula. For many years photography has been a passion for me. I have learned never to take anything for granted. Around every corner\, with each new dawn\, lies something exciting…something beautiful…something that literally takes your breath away. I love experiencing\, as well as preserving\, these wonderfully exciting\, beautiful moments. I also love to travel and share those photos and experiences as well. Life is too short not to enjoy every moment! Take time to enjoy the beauty that surrounds us. \n 
URL:https://stignacelibrary.org/event/local-artist-showcase/
LOCATION:St. Ignace Public Library\, 110 W Spruce St\, St. Igance\, MI\, 49781\, United States
CATEGORIES:Adult
END:VEVENT
BEGIN:VEVENT
DTSTART;TZID=America/New_York:20220114T103000
DTEND;TZID=America/New_York:20220114T110000
DTSTAMP:20260421T084651
CREATED:20210825T183128Z
LAST-MODIFIED:20210825T183128Z
UID:4630-1642156200-1642158000@stignacelibrary.org
SUMMARY:Toddler Storytime
DESCRIPTION:Join us for an interactive storytime and themed crafts in the Children’s Section on Friday’s at 10:30 AM.\n\n \nAges 2+\, but younger siblings are welcome to join.
URL:https://stignacelibrary.org/event/toddler-storytime-23/
LOCATION:St. Ignace Public Library\, 110 W Spruce St\, St. Igance\, MI\, 49781\, United States
CATEGORIES:Children's Program
END:VEVENT
BEGIN:VEVENT
DTSTART;TZID=America/New_York:20220113T150000
DTEND;TZID=America/New_York:20220113T160000
DTSTAMP:20260421T084651
CREATED:20220103T190823Z
LAST-MODIFIED:20220103T190823Z
UID:4891-1642086000-1642089600@stignacelibrary.org
SUMMARY:LEGO Club
DESCRIPTION:The library will provide the LEGOs\, you provide the imagination.\n \nLEGO Club is open to anyone interested\, there is no need to sign up. You can work on your own creation or follow one of the building challenges provided.\n \nIf you have any LEGOs to spare\, please consider donating them to the LEGO club.\n \nThank you to the Friends of the Library for their generous purchase of LEGOS for this club.
URL:https://stignacelibrary.org/event/lego-club-10/
LOCATION:St. Ignace Public Library\, 110 W Spruce St\, St. Igance\, MI\, 49781\, United States
CATEGORIES:Children's Program,School Age,Teen,Tween
END:VEVENT
BEGIN:VEVENT
DTSTART;TZID=America/New_York:20220111T170000
DTEND;TZID=America/New_York:20220111T180000
DTSTAMP:20260421T084651
CREATED:20220217T203908Z
LAST-MODIFIED:20220217T203908Z
UID:5088-1641920400-1641924000@stignacelibrary.org
SUMMARY:Library Board Meeting
DESCRIPTION:The St. Ignace Public Library Board meets the second Tuesday of each month at 5:00 pm in the community room of the library. The public is welcome to attend and participate in the meeting during public comment.
URL:https://stignacelibrary.org/event/library-board-meeting/
LOCATION:St. Ignace Public Library\, 110 W Spruce St\, St. Igance\, MI\, 49781\, United States
END:VEVENT
BEGIN:VEVENT
DTSTART;TZID=America/New_York:20220111T103000
DTEND;TZID=America/New_York:20220111T113000
DTSTAMP:20260421T084651
CREATED:20211005T150448Z
LAST-MODIFIED:20220103T161812Z
UID:4722-1641897000-1641900600@stignacelibrary.org
SUMMARY:Toddler Talk & Play
DESCRIPTION:Join us for a fun\, play-based program for toddlers and preschoolers where they explore the materials provided while connecting with other children/families. Open to children ages 1 year to 5 years. Parents/caregivers are encourage to follow their lead and explore as well.
URL:https://stignacelibrary.org/event/toddler-talk-play-8/
LOCATION:St. Ignace Public Library\, 110 W Spruce St\, St. Igance\, MI\, 49781\, United States
CATEGORIES:Children's Program
END:VEVENT
BEGIN:VEVENT
DTSTART;TZID=America/New_York:20220108T100000
DTEND;TZID=America/New_York:20220108T140000
DTSTAMP:20260421T084651
CREATED:20211129T203616Z
LAST-MODIFIED:20211129T203616Z
UID:4857-1641636000-1641650400@stignacelibrary.org
SUMMARY:Friends of the Library Book Sale
DESCRIPTION:The Friends of the Library Book Sale will take place in the St. Ignace Public Library Community Room on Friday\, January 7\, and Saturday\, January 8.\n \nThis book sale directly supports the Friends of the Library who in turn pay for library programs\, new technology\, craft supplies\, books\, and so much more.
URL:https://stignacelibrary.org/event/friends-of-the-library-book-sale-2/
LOCATION:St. Ignace Public Library\, 110 W Spruce St\, St. Igance\, MI\, 49781\, United States
CATEGORIES:Adult,Children's Program,School Age,Teen,Tween
END:VEVENT
BEGIN:VEVENT
DTSTART;TZID=America/New_York:20220107T100000
DTEND;TZID=America/New_York:20220107T170000
DTSTAMP:20260421T084651
CREATED:20211129T203511Z
LAST-MODIFIED:20211129T203511Z
UID:4855-1641549600-1641574800@stignacelibrary.org
SUMMARY:Friends of the Library Book Sale
DESCRIPTION:The Friends of the Library Book Sale will take place in the St. Ignace Public Library Community Room on Friday\, January 7\, and Saturday\, January 8.\n \nThis book sale directly supports the Friends of the Library who in turn pay for library programs\, new technology\, craft supplies\, books\, and so much more.
URL:https://stignacelibrary.org/event/friends-of-the-library-book-sale/
LOCATION:St. Ignace Public Library\, 110 W Spruce St\, St. Igance\, MI\, 49781\, United States
CATEGORIES:Adult,Children's Program,School Age,Teen,Tween
END:VEVENT
BEGIN:VEVENT
DTSTART;TZID=America/New_York:20220107T080000
DTEND;TZID=America/New_York:20220107T170000
DTSTAMP:20260421T084651
CREATED:20210825T182536Z
LAST-MODIFIED:20210825T182536Z
UID:4628-1641542400-1641574800@stignacelibrary.org
SUMMARY:Toddler Storytime
DESCRIPTION:Join us for an interactive storytime and themed crafts in the Children’s Section on Friday’s at 10:30 AM.\n\n \nAges 2+\, but younger siblings are welcome to join.
URL:https://stignacelibrary.org/event/toddler-storytime-22/
LOCATION:St. Ignace Public Library\, 110 W Spruce St\, St. Igance\, MI\, 49781\, United States
CATEGORIES:Children's Program
END:VEVENT
BEGIN:VEVENT
DTSTART;VALUE=DATE:20220101
DTEND;VALUE=DATE:20220102
DTSTAMP:20260421T084651
CREATED:20211006T194644Z
LAST-MODIFIED:20211006T194644Z
UID:4751-1640995200-1641081599@stignacelibrary.org
SUMMARY:Library Closed
DESCRIPTION:The library will be closed all day.
URL:https://stignacelibrary.org/event/library-closed-9/
END:VEVENT
BEGIN:VEVENT
DTSTART;VALUE=DATE:20211231
DTEND;VALUE=DATE:20220101
DTSTAMP:20260421T084651
CREATED:20211006T194625Z
LAST-MODIFIED:20211006T194625Z
UID:4749-1640908800-1640995199@stignacelibrary.org
SUMMARY:Library Closed
DESCRIPTION:The library will be closed all day.
URL:https://stignacelibrary.org/event/library-closed-8/
END:VEVENT
BEGIN:VEVENT
DTSTART;VALUE=DATE:20211226
DTEND;VALUE=DATE:20211227
DTSTAMP:20260421T084651
CREATED:20211006T194609Z
LAST-MODIFIED:20211006T194609Z
UID:4747-1640476800-1640563199@stignacelibrary.org
SUMMARY:Library Closed
DESCRIPTION:The library will be closed all day.
URL:https://stignacelibrary.org/event/library-closed-7/
END:VEVENT
BEGIN:VEVENT
DTSTART;VALUE=DATE:20211225
DTEND;VALUE=DATE:20211226
DTSTAMP:20260421T084651
CREATED:20211006T194551Z
LAST-MODIFIED:20211006T194551Z
UID:4744-1640390400-1640476799@stignacelibrary.org
SUMMARY:Library Closed
DESCRIPTION:The library will be closed all day.
URL:https://stignacelibrary.org/event/library-closed-6/
END:VEVENT
BEGIN:VEVENT
DTSTART;VALUE=DATE:20211224
DTEND;VALUE=DATE:20211225
DTSTAMP:20260421T084651
CREATED:20211006T194533Z
LAST-MODIFIED:20211006T194533Z
UID:4742-1640304000-1640390399@stignacelibrary.org
SUMMARY:Library Closed
DESCRIPTION:The library will be closed all day.
URL:https://stignacelibrary.org/event/library-closed-5/
END:VEVENT
BEGIN:VEVENT
DTSTART;TZID=America/New_York:20211221T103000
DTEND;TZID=America/New_York:20211221T113000
DTSTAMP:20260421T084651
CREATED:20211005T150011Z
LAST-MODIFIED:20211005T150011Z
UID:4718-1640082600-1640086200@stignacelibrary.org
SUMMARY:Toddler Talk & Play
DESCRIPTION:Join us for a fun\, play-based program for toddlers and preschoolers where they explore the materials provided while connecting with other children/families. Open to children ages 1 year to 5 years. Parents/caregivers are encourage to follow their lead and explore as well.
URL:https://stignacelibrary.org/event/toddler-talk-play-6/
LOCATION:St. Ignace Public Library\, 110 W Spruce St\, St. Igance\, MI\, 49781\, United States
CATEGORIES:Children's Program
END:VEVENT
BEGIN:VEVENT
DTSTART;TZID=America/New_York:20211218T110000
DTEND;TZID=America/New_York:20211218T130000
DTSTAMP:20260421T084651
CREATED:20211109T201035Z
LAST-MODIFIED:20211213T153026Z
UID:4820-1639825200-1639832400@stignacelibrary.org
SUMMARY:Gingerbread House Workshop
DESCRIPTION:Join us for a cozy Gingerbread House Workshop on December 18 at 11:00 AM. We will have all the supplies to build and decorate your delicious gingerbread house. \nTo ensure we have enough gingerbread houses baked\, we ask that interested participants register with the library. You can register online or by calling 906-643-8318. \nREGISTRATION HAS CLOSED FOR THIS EVENT.
URL:https://stignacelibrary.org/event/gingerbread-house-workshop/
LOCATION:St. Ignace Public Library\, 110 W Spruce St\, St. Igance\, MI\, 49781\, United States
CATEGORIES:Adult,Children's Program,School Age,Teen,Tween
END:VEVENT
BEGIN:VEVENT
DTSTART;TZID=America/New_York:20211217T103000
DTEND;TZID=America/New_York:20211217T110000
DTSTAMP:20260421T084651
CREATED:20210825T181858Z
LAST-MODIFIED:20210825T181858Z
UID:4626-1639737000-1639738800@stignacelibrary.org
SUMMARY:Toddler Storytime
DESCRIPTION:Join us for an interactive storytime and themed crafts in the Children’s Section on Friday’s at 10:30 AM.\n\n \nAges 2+\, but younger siblings are welcome to join.
URL:https://stignacelibrary.org/event/toddler-storytime-21/
LOCATION:St. Ignace Public Library\, 110 W Spruce St\, St. Igance\, MI\, 49781\, United States
CATEGORIES:Children's Program
END:VEVENT
BEGIN:VEVENT
DTSTART;TZID=America/New_York:20211216T171500
DTEND;TZID=America/New_York:20211216T180000
DTSTAMP:20260421T084651
CREATED:20211022T153326Z
LAST-MODIFIED:20211115T185607Z
UID:4782-1639674900-1639677600@stignacelibrary.org
SUMMARY:Adult Book Club
DESCRIPTION:Book Club is back! Join us on Thursday\, December 16\, at 5:15 PM in discussing “This Tender Land by William Kent Krueger” \n“1932\, Minnesota—the Lincoln School is a pitiless place where hundreds of Native American children\, forcibly separated from their parents\, are sent to be educated. It is also home to an orphan named Odie O’Banion\, a lively boy whose exploits earn him the superintendent’s wrath. Forced to flee\, he and his brother Albert\, their best friend Mose\, and a brokenhearted little girl named Emmy steal away in a canoe\, heading for the mighty Mississippi and a place to call their own. \nOver the course of one unforgettable summer\, these four orphans will journey into the unknown and cross paths with others who are adrift\, from struggling farmers and traveling faith healers to displaced families and lost souls of all kinds. With the feel of a modern classic\, This Tender Land is an en­thralling\, big-hearted epic that shows how the magnificent American landscape connects us all\, haunts our dreams\, and makes us whole.”
URL:https://stignacelibrary.org/event/adult-book-club-2/
LOCATION:St. Ignace Public Library\, 110 W Spruce St\, St. Igance\, MI\, 49781\, United States
CATEGORIES:Adult
END:VEVENT
BEGIN:VEVENT
DTSTART;TZID=America/New_York:20211214T170000
DTEND;TZID=America/New_York:20211214T180000
DTSTAMP:20260421T084651
CREATED:20210105T155958Z
LAST-MODIFIED:20210105T160223Z
UID:3676-1639501200-1639504800@stignacelibrary.org
SUMMARY:December Library Board Meeting
DESCRIPTION:The St. Ignace Library Board meeting will take place on December 14\, 2021 at 5:00 PM. The public is welcome to attend and participate in the meeting during public comment.
URL:https://stignacelibrary.org/event/december-library-board-meeting/
LOCATION:St. Ignace Public Library\, 110 W Spruce St\, St. Igance\, MI\, 49781\, United States
CATEGORIES:Board of Trustees
END:VEVENT
BEGIN:VEVENT
DTSTART;TZID=America/New_York:20211210T103000
DTEND;TZID=America/New_York:20211210T110000
DTSTAMP:20260421T084651
CREATED:20210825T181733Z
LAST-MODIFIED:20210825T181733Z
UID:4624-1639132200-1639134000@stignacelibrary.org
SUMMARY:Toddler Storytime
DESCRIPTION:Join us for an interactive storytime and themed crafts in the Children’s Section on Friday’s at 10:30 AM.\n\n \nAges 2+\, but younger siblings are welcome to join.
URL:https://stignacelibrary.org/event/toddler-storytime-20/
LOCATION:St. Ignace Public Library\, 110 W Spruce St\, St. Igance\, MI\, 49781\, United States
CATEGORIES:Children's Program
END:VEVENT
BEGIN:VEVENT
DTSTART;TZID=America/New_York:20211209T150000
DTEND;TZID=America/New_York:20211209T160000
DTSTAMP:20260421T084651
CREATED:20210629T203457Z
LAST-MODIFIED:20210629T203457Z
UID:4511-1639062000-1639065600@stignacelibrary.org
SUMMARY:LEGO Club
DESCRIPTION:The library will provide the LEGOs\, you provide the imagination.\n \nLEGO Club is open to anyone interested\, there is no need to sign up. You can work on your own creation or follow one of the building challenges provided.\n \nIf you have any LEGOs to spare\, please consider donating them to the LEGO club.\n \nThank you to the Friends of the Library for their generous purchase of LEGOS for this club.
URL:https://stignacelibrary.org/event/lego-club-9/
LOCATION:St. Ignace Public Library\, 110 W Spruce St\, St. Igance\, MI\, 49781\, United States
CATEGORIES:Children's Program,School Age,Teen,Tween
END:VEVENT
BEGIN:VEVENT
DTSTART;TZID=America/New_York:20211207T103000
DTEND;TZID=America/New_York:20211207T113000
DTSTAMP:20260421T084651
CREATED:20211005T145738Z
LAST-MODIFIED:20211005T145738Z
UID:4716-1638873000-1638876600@stignacelibrary.org
SUMMARY:Toddler Talk & Play
DESCRIPTION:Join us for a fun\, play-based program for toddlers and preschoolers where they explore the materials provided while connecting with other children/families. Open to children ages 1 year to 5 years. Parents/caregivers are encourage to follow their lead and explore as well.
URL:https://stignacelibrary.org/event/toddler-talk-play-5/
LOCATION:St. Ignace Public Library\, 110 W Spruce St\, St. Igance\, MI\, 49781\, United States
CATEGORIES:Children's Program
END:VEVENT
BEGIN:VEVENT
DTSTART;TZID=America/New_York:20211204T110000
DTEND;TZID=America/New_York:20211204T123000
DTSTAMP:20260421T084651
CREATED:20211129T175634Z
LAST-MODIFIED:20211129T175634Z
UID:4848-1638615600-1638621000@stignacelibrary.org
SUMMARY:Mrs. Claus Toy Making Workshop
DESCRIPTION:Join Mrs. Claus for a Toy Making Workshop on December 4 at 11:00 AM. Find your perfect future stuffed animal\, fill them with love\, stuff them with dreams\, learn a little about the North Pole\, and take your new buddy home. \n  \nThis is a free event!
URL:https://stignacelibrary.org/event/mrs-claus-toy-making-workshop/
LOCATION:St. Ignace Public Library\, 110 W Spruce St\, St. Igance\, MI\, 49781\, United States
CATEGORIES:Children's Program,School Age,Teen,Tween
END:VEVENT
BEGIN:VEVENT
DTSTART;TZID=America/New_York:20211203T103000
DTEND;TZID=America/New_York:20211203T110000
DTSTAMP:20260421T084651
CREATED:20210825T181504Z
LAST-MODIFIED:20210825T181504Z
UID:4622-1638527400-1638529200@stignacelibrary.org
SUMMARY:Toddler Storytime
DESCRIPTION:Join us for an interactive storytime and themed crafts in the Children’s Section on Friday’s at 10:30 AM.\n\n \nAges 2+\, but younger siblings are welcome to join.
URL:https://stignacelibrary.org/event/toddler-storytime-19/
LOCATION:St. Ignace Public Library\, 110 W Spruce St\, St. Igance\, MI\, 49781\, United States
CATEGORIES:Children's Program
END:VEVENT
BEGIN:VEVENT
DTSTART;VALUE=DATE:20211127
DTEND;VALUE=DATE:20211128
DTSTAMP:20260421T084651
CREATED:20211124T161301Z
LAST-MODIFIED:20211124T161301Z
UID:4845-1637971200-1638057599@stignacelibrary.org
SUMMARY:Library Closed
DESCRIPTION:The library will be closed all day.
URL:https://stignacelibrary.org/event/library-closed-17/
END:VEVENT
END:VCALENDAR