BEGIN:VCALENDAR
VERSION:2.0
PRODID:-//St. Ignace Public Library - ECPv6.15.20//NONSGML v1.0//EN
CALSCALE:GREGORIAN
METHOD:PUBLISH
X-WR-CALNAME:St. Ignace Public Library
X-ORIGINAL-URL:https://stignacelibrary.org
X-WR-CALDESC:Events for St. Ignace Public Library
REFRESH-INTERVAL;VALUE=DURATION:PT1H
X-Robots-Tag:noindex
X-PUBLISHED-TTL:PT1H
BEGIN:VTIMEZONE
TZID:America/New_York
BEGIN:DAYLIGHT
TZOFFSETFROM:-0500
TZOFFSETTO:-0400
TZNAME:EDT
DTSTART:20200308T070000
END:DAYLIGHT
BEGIN:STANDARD
TZOFFSETFROM:-0400
TZOFFSETTO:-0500
TZNAME:EST
DTSTART:20201101T060000
END:STANDARD
BEGIN:DAYLIGHT
TZOFFSETFROM:-0500
TZOFFSETTO:-0400
TZNAME:EDT
DTSTART:20210314T070000
END:DAYLIGHT
BEGIN:STANDARD
TZOFFSETFROM:-0400
TZOFFSETTO:-0500
TZNAME:EST
DTSTART:20211107T060000
END:STANDARD
BEGIN:DAYLIGHT
TZOFFSETFROM:-0500
TZOFFSETTO:-0400
TZNAME:EDT
DTSTART:20220313T070000
END:DAYLIGHT
BEGIN:STANDARD
TZOFFSETFROM:-0400
TZOFFSETTO:-0500
TZNAME:EST
DTSTART:20221106T060000
END:STANDARD
END:VTIMEZONE
BEGIN:VEVENT
DTSTART;TZID=America/New_York:20210917T103000
DTEND;TZID=America/New_York:20210917T110000
DTSTAMP:20260421T191059
CREATED:20210825T123340Z
LAST-MODIFIED:20210825T123340Z
UID:4596-1631874600-1631876400@stignacelibrary.org
SUMMARY:Toddler Storytime
DESCRIPTION:Join us for an interactive storytime and themed crafts in the Children’s Section on Friday’s at 10:30 AM.\n\n \nAges 2+\, but younger siblings are welcome to join.
URL:https://stignacelibrary.org/event/toddler-storytime-6/
LOCATION:St. Ignace Public Library\, 110 W Spruce St\, St. Igance\, MI\, 49781\, United States
CATEGORIES:Children's Program
END:VEVENT
BEGIN:VEVENT
DTSTART;TZID=America/New_York:20210916T150000
DTEND;TZID=America/New_York:20210916T160000
DTSTAMP:20260421T191059
CREATED:20210629T203054Z
LAST-MODIFIED:20210629T203054Z
UID:4503-1631804400-1631808000@stignacelibrary.org
SUMMARY:LEGO Club
DESCRIPTION:The library will provide the LEGOs\, you provide the imagination.\n \nLEGO Club is open to anyone interested\, there is no need to sign up. You can work on your own creation or follow one of the building challenges provided.\n \nIf you have any LEGOs to spare\, please consider donating them to the LEGO club.\n \nThank you to the Friends of the Library for their generous purchase of LEGOS for this club.
URL:https://stignacelibrary.org/event/lego-club-5/
LOCATION:St. Ignace Public Library\, 110 W Spruce St\, St. Igance\, MI\, 49781\, United States
CATEGORIES:Children's Program,School Age,Teen,Tween
END:VEVENT
BEGIN:VEVENT
DTSTART;TZID=America/New_York:20210914T170000
DTEND;TZID=America/New_York:20210914T180000
DTSTAMP:20260421T191059
CREATED:20210105T155753Z
LAST-MODIFIED:20210105T160229Z
UID:3670-1631638800-1631642400@stignacelibrary.org
SUMMARY:September Library Board Meeting
DESCRIPTION:The St. Ignace Library Board meeting will take place on September 14\, 2021 at 5:00 PM. The public is welcome to attend and participate in the meeting during public comment.
URL:https://stignacelibrary.org/event/september-library-board-meeting/
LOCATION:St. Ignace Public Library\, 110 W Spruce St\, St. Igance\, MI\, 49781\, United States
CATEGORIES:Board of Trustees
END:VEVENT
BEGIN:VEVENT
DTSTART;TZID=America/New_York:20210910T103000
DTEND;TZID=America/New_York:20210910T110000
DTSTAMP:20260421T191059
CREATED:20210630T195300Z
LAST-MODIFIED:20210630T195300Z
UID:4532-1631269800-1631271600@stignacelibrary.org
SUMMARY:Toddler Storytime
DESCRIPTION:Join us for an interactive storytime and themed crafts in the Children’s Section on Friday’s at 10:30 AM.\n\n \nAges 2+\, but younger siblings are welcome to join.
URL:https://stignacelibrary.org/event/toddler-storytime-9/
LOCATION:St. Ignace Public Library\, 110 W Spruce St\, St. Igance\, MI\, 49781\, United States
CATEGORIES:Children's Program
END:VEVENT
BEGIN:VEVENT
DTSTART;TZID=America/New_York:20210908T190000
DTEND;TZID=America/New_York:20210908T203000
DTSTAMP:20260421T191059
CREATED:20210513T195058Z
LAST-MODIFIED:20210825T123308Z
UID:4359-1631127600-1631133000@stignacelibrary.org
SUMMARY:Concert- Singing the Good Old Songs Again
DESCRIPTION:Join us on Wednesday\, September 8 at 7:00 PM for a concert- Singing the Good Old Songs Again- with Gary Brandt and Jackie Davidson.\n \nSinging the Good Old Songs Again is a combination of classic and original folk songs with a lot of humor and audience interaction.\n 
URL:https://stignacelibrary.org/event/concert-singing-the-good-old-songs-again/
CATEGORIES:Adult
END:VEVENT
BEGIN:VEVENT
DTSTART;TZID=America/New_York:20210904T100000
DTEND;TZID=America/New_York:20210904T140000
DTSTAMP:20260421T191059
CREATED:20210721T152945Z
LAST-MODIFIED:20210721T152945Z
UID:4547-1630749600-1630764000@stignacelibrary.org
SUMMARY:FOTL Book Sale
DESCRIPTION:The first book sale in over a year will take place on Friday\, September 3\, and Saturday\, September 4\, in the St. Ignace Public Library Community Room.\n \nThis book sale directly supports the Friends of the Library who in turn pay for library programs\, new technology\, craft supplies\, books\, and so much more.
URL:https://stignacelibrary.org/event/fotl-book-sale-2/
LOCATION:St. Ignace Public Library\, 110 W Spruce St\, St. Igance\, MI\, 49781\, United States
CATEGORIES:Adult
END:VEVENT
BEGIN:VEVENT
DTSTART;TZID=America/New_York:20210903T103000
DTEND;TZID=America/New_York:20210903T110000
DTSTAMP:20260421T191059
CREATED:20210630T194620Z
LAST-MODIFIED:20210630T194620Z
UID:4529-1630665000-1630666800@stignacelibrary.org
SUMMARY:Toddler Storytime
DESCRIPTION:Join us for an interactive storytime and themed crafts in the Children’s Section on Friday’s at 10:30 AM.\n\n \nAges 2+\, but younger siblings are welcome to join.
URL:https://stignacelibrary.org/event/toddler-storytime-8/
LOCATION:St. Ignace Public Library\, 110 W Spruce St\, St. Igance\, MI\, 49781\, United States
CATEGORIES:Children's Program
END:VEVENT
BEGIN:VEVENT
DTSTART;TZID=America/New_York:20210903T100000
DTEND;TZID=America/New_York:20210903T170000
DTSTAMP:20260421T191059
CREATED:20210526T190142Z
LAST-MODIFIED:20210721T152915Z
UID:4422-1630663200-1630688400@stignacelibrary.org
SUMMARY:FOTL Book Sale
DESCRIPTION:The first book sale in over a year will take place on Friday\, September 3\, and Saturday\, September 4\, in the St. Ignace Public Library Community Room.\n \nThis book sale directly supports the Friends of the Library who in turn pay for library programs\, new technology\, craft supplies\, books\, and so much more.
URL:https://stignacelibrary.org/event/fotl-book-sale/
LOCATION:St. Ignace Public Library\, 110 W Spruce St\, St. Igance\, MI\, 49781\, United States
END:VEVENT
BEGIN:VEVENT
DTSTART;TZID=America/New_York:20210902T150000
DTEND;TZID=America/New_York:20210902T160000
DTSTAMP:20260421T191059
CREATED:20210629T203007Z
LAST-MODIFIED:20210629T203007Z
UID:4501-1630594800-1630598400@stignacelibrary.org
SUMMARY:LEGO Club
DESCRIPTION:The library will provide the LEGOs\, you provide the imagination.\n \nLEGO Club is open to anyone interested\, there is no need to sign up. You can work on your own creation or follow one of the building challenges provided.\n \nIf you have any LEGOs to spare\, please consider donating them to the LEGO club.\n \nThank you to the Friends of the Library for their generous purchase of LEGOS for this club.
URL:https://stignacelibrary.org/event/lego-club-4/
LOCATION:St. Ignace Public Library\, 110 W Spruce St\, St. Igance\, MI\, 49781\, United States
CATEGORIES:Children's Program,School Age,Teen,Tween
END:VEVENT
BEGIN:VEVENT
DTSTART;TZID=America/New_York:20210827T103000
DTEND;TZID=America/New_York:20210827T110000
DTSTAMP:20260421T191059
CREATED:20210630T194531Z
LAST-MODIFIED:20210630T194531Z
UID:4527-1630060200-1630062000@stignacelibrary.org
SUMMARY:Toddler Storytime
DESCRIPTION:Join us for an interactive storytime and themed crafts in the Children’s Section on Friday’s at 10:30 AM.\n\n \nAges 2+\, but younger siblings are welcome to join.
URL:https://stignacelibrary.org/event/toddler-storytime-7/
LOCATION:St. Ignace Public Library\, 110 W Spruce St\, St. Igance\, MI\, 49781\, United States
CATEGORIES:Children's Program
END:VEVENT
BEGIN:VEVENT
DTSTART;VALUE=DATE:20210820
DTEND;VALUE=DATE:20210821
DTSTAMP:20260421T191059
CREATED:20210604T152722Z
LAST-MODIFIED:20210604T153511Z
UID:4467-1629417600-1629503999@stignacelibrary.org
SUMMARY:Chalk Art Friday
DESCRIPTION:Chalk Art Fridays- Join us every Friday this Summer in creating art on our patio with chalk!\n \n\n\nWe welcome anyone and everyone to grab some chalk from the front desk and color/create to your heat’s content. The art will remain for one week (weather permitting) for the community to enjoy
URL:https://stignacelibrary.org/event/chalk-art-friday-12/
LOCATION:St. Ignace Public Library\, 110 W Spruce St\, St. Igance\, MI\, 49781\, United States
CATEGORIES:Adult,Children's Program,School Age,Teen,Tween
END:VEVENT
BEGIN:VEVENT
DTSTART;TZID=America/New_York:20210817T180000
DTEND;TZID=America/New_York:20210817T190000
DTSTAMP:20260421T191059
CREATED:20210714T172023Z
LAST-MODIFIED:20210714T172205Z
UID:4541-1629223200-1629226800@stignacelibrary.org
SUMMARY:Author Event- Jean Kehoe VanDyke
DESCRIPTION:Join St. Ignace Public Library and Michilimackinac Historical Society in welcoming Jean Kehoe VanDyke\, U.P. Native and author of Slaying the Jabberwock.\n \nSlaying the Jabberwock is a character driven novel with thrilling twists and turns.\n  \nAuthor Bio \nJean Kehoe VanDyke has been writing novels filled with unforgettable\, entertaining characters and exciting action since she was a child\, so very long ago. Her writing\, which spans a wide spectrum of human experience and emotion\, is about the challenges of life\, love and determination. Ironic wit and optimistic views of human interactions make her novels emotionally exciting and delightfully human. She sees her genre as contemporary family chronicles\, where dynamic people walk a constantly shifting tightrope between traditional values and modern liberties.
URL:https://stignacelibrary.org/event/author-meet-greet-jean-kehoe-vandyke/
LOCATION:St. Ignace Public Library\, 110 W Spruce St\, St. Igance\, MI\, 49781\, United States
CATEGORIES:Adult
END:VEVENT
BEGIN:VEVENT
DTSTART;TZID=America/New_York:20210813T103000
DTEND;TZID=America/New_York:20210813T110000
DTSTAMP:20260421T191059
CREATED:20210630T172806Z
LAST-MODIFIED:20210630T172806Z
UID:4523-1628850600-1628852400@stignacelibrary.org
SUMMARY:Toddler Storytime
DESCRIPTION:Join us for an interactive storytime and themed crafts in the Children’s Section on Friday’s at 10:30 AM.\n\n \nAges 2+\, but younger siblings are welcome to join.
URL:https://stignacelibrary.org/event/toddler-storytime-5/
LOCATION:St. Ignace Public Library\, 110 W Spruce St\, St. Igance\, MI\, 49781\, United States
CATEGORIES:Children's Program
END:VEVENT
BEGIN:VEVENT
DTSTART;VALUE=DATE:20210813
DTEND;VALUE=DATE:20210814
DTSTAMP:20260421T191059
CREATED:20210604T152647Z
LAST-MODIFIED:20210604T152647Z
UID:4465-1628812800-1628899199@stignacelibrary.org
SUMMARY:Chalk Art Friday
DESCRIPTION:Chalk Art Fridays- Join us every Friday this Summer in creating art on our patio with chalk!\n \n\n\nWe welcome anyone and everyone to grab some chalk from the front desk and color/create to your heat’s content. The art will remain for one week (weather permitting) for the community to enjoy
URL:https://stignacelibrary.org/event/chalk-art-friday-11/
CATEGORIES:Adult,Children's Program,School Age,Teen,Tween
END:VEVENT
BEGIN:VEVENT
DTSTART;TZID=America/New_York:20210812T173000
DTEND;TZID=America/New_York:20210812T183000
DTSTAMP:20260421T191059
CREATED:20210728T175258Z
LAST-MODIFIED:20210728T175258Z
UID:4554-1628789400-1628793000@stignacelibrary.org
SUMMARY:Author Meet & Greet- Theresa L. Weller
DESCRIPTION:Join the St. Ignace Public Library and Michilimackinac Historical Society in welcoming local author and historian Theresa L. Weller\, author of The Founding Mothers of Mackinac Island- The Agatha Biddle Band of 1870.\n \nDrawing on a wide array of historical sources\, Theresa L. Weller provides a comprehensive history of the lineage of the seventy-four members of the Agatha Biddle Band in 1870.\n \nTheresa L. Weller has been publishes in the Michigan’s Habitant Heritage\, St. Ignace News\, and the Mackinac Island Town Crier. She is a member of the Sault Ste. Marie Tribe of Chippewa Indians.
URL:https://stignacelibrary.org/event/author-meet-greet-theresa-l-weller/
LOCATION:St. Ignace Public Library\, 110 W Spruce St\, St. Igance\, MI\, 49781\, United States
CATEGORIES:Adult
END:VEVENT
BEGIN:VEVENT
DTSTART;TZID=America/New_York:20210810T170000
DTEND;TZID=America/New_York:20210810T180000
DTSTAMP:20260421T191059
CREATED:20210105T155644Z
LAST-MODIFIED:20210105T160230Z
UID:3668-1628614800-1628618400@stignacelibrary.org
SUMMARY:August Library Board Meeting
DESCRIPTION:The St. Ignace Library Board meeting will take place on August 10\, 2021 at 5:00 PM. The public is welcome to attend and participate in the meeting during public comment.
URL:https://stignacelibrary.org/event/august-library-board-meeting/
LOCATION:St. Ignace Public Library\, 110 W Spruce St\, St. Igance\, MI\, 49781\, United States
CATEGORIES:Board of Trustees
END:VEVENT
BEGIN:VEVENT
DTSTART;TZID=America/New_York:20210806T103000
DTEND;TZID=America/New_York:20210806T110000
DTSTAMP:20260421T191059
CREATED:20210630T165552Z
LAST-MODIFIED:20210630T165552Z
UID:4521-1628245800-1628247600@stignacelibrary.org
SUMMARY:Toddler Storytime
DESCRIPTION:Join us for an interactive storytime and themed crafts in the Children’s Section on Friday’s at 10:30 AM.\n\n \nAges 2+\, but younger siblings are welcome to join.
URL:https://stignacelibrary.org/event/toddler-storytime-4/
LOCATION:St. Ignace Public Library\, 110 W Spruce St\, St. Igance\, MI\, 49781\, United States
CATEGORIES:Children's Program
END:VEVENT
BEGIN:VEVENT
DTSTART;VALUE=DATE:20210806
DTEND;VALUE=DATE:20210807
DTSTAMP:20260421T191059
CREATED:20210604T152624Z
LAST-MODIFIED:20210604T152624Z
UID:4463-1628208000-1628294399@stignacelibrary.org
SUMMARY:Chalk Art Friday
DESCRIPTION:Chalk Art Fridays- Join us every Friday this Summer in creating art on our patio with chalk!\n \n\n\nWe welcome anyone and everyone to grab some chalk from the front desk and color/create to your heat’s content. The art will remain for one week (weather permitting) for the community to enjoy
URL:https://stignacelibrary.org/event/chalk-art-friday-10/
LOCATION:St. Ignace Public Library\, 110 W Spruce St\, St. Igance\, MI\, 49781\, United States
CATEGORIES:Adult,Children's Program,School Age,Teen,Tween
END:VEVENT
BEGIN:VEVENT
DTSTART;TZID=America/New_York:20210805T080000
DTEND;TZID=America/New_York:20210805T170000
DTSTAMP:20260421T191059
CREATED:20210629T202750Z
LAST-MODIFIED:20210629T202750Z
UID:4497-1628150400-1628182800@stignacelibrary.org
SUMMARY:LEGO Club
DESCRIPTION:The library will provide the LEGOs\, you provide the imagination.\n \nLEGO Club is open to anyone interested\, there is no need to sign up. You can work on your own creation or follow one of the building challenges provided.\n \nIf you have any LEGOs to spare\, please consider donating them to the LEGO club.\n \nThank you to the Friends of the Library for their generous purchase of LEGOS for this club.
URL:https://stignacelibrary.org/event/lego-club-3/
END:VEVENT
BEGIN:VEVENT
DTSTART;TZID=America/New_York:20210804T140000
DTEND;TZID=America/New_York:20210804T150000
DTSTAMP:20260421T191059
CREATED:20210511T200531Z
LAST-MODIFIED:20210618T203212Z
UID:4348-1628085600-1628089200@stignacelibrary.org
SUMMARY:Craft Club- Origami
DESCRIPTION:Join us for Craft Club every other Wednesday at 2:00 PM during the summer months as we explore different art medium\, crafts\, and projects. These crafts are easy to pick-up and have a completed project in no time! \nJoin us August 11 for Origami- learn the art of paper folding. \n 
URL:https://stignacelibrary.org/event/craft-club-origami/
LOCATION:St. Ignace Public Library\, 110 W Spruce St\, St. Igance\, MI\, 49781\, United States
CATEGORIES:Adult,Children's Program,School Age,Teen,Tween
END:VEVENT
BEGIN:VEVENT
DTSTART;TZID=America/New_York:20210803T171500
DTEND;TZID=America/New_York:20210803T180000
DTSTAMP:20260421T191059
CREATED:20210727T172816Z
LAST-MODIFIED:20210727T172816Z
UID:4551-1628010900-1628013600@stignacelibrary.org
SUMMARY:Friends of the Library Meeting
DESCRIPTION:The Friends of the Library Board will meet on August 3\, at 5:15 PM. Friends of the Library members and the public are welcome to join.
URL:https://stignacelibrary.org/event/friends-of-the-library-meeting/
LOCATION:St. Ignace Public Library\, 110 W Spruce St\, St. Igance\, MI\, 49781\, United States
END:VEVENT
BEGIN:VEVENT
DTSTART;TZID=America/New_York:20210730T103000
DTEND;TZID=America/New_York:20210730T110000
DTSTAMP:20260421T191059
CREATED:20210630T165310Z
LAST-MODIFIED:20210630T165310Z
UID:4519-1627641000-1627642800@stignacelibrary.org
SUMMARY:Toddler Storytime
DESCRIPTION:Join us for an interactive storytime and themed crafts in the Children’s Section on Friday’s at 10:30 AM.\n\n \nAges 2+\, but younger siblings are welcome to join.
URL:https://stignacelibrary.org/event/toddler-storytime-3/
LOCATION:St. Ignace Public Library\, 110 W Spruce St\, St. Igance\, MI\, 49781\, United States
CATEGORIES:Children's Program
END:VEVENT
BEGIN:VEVENT
DTSTART;VALUE=DATE:20210730
DTEND;VALUE=DATE:20210731
DTSTAMP:20260421T191059
CREATED:20210604T152601Z
LAST-MODIFIED:20210604T152601Z
UID:4461-1627603200-1627689599@stignacelibrary.org
SUMMARY:Chalk Art Friday
DESCRIPTION:Chalk Art Fridays- Join us every Friday this Summer in creating art on our patio with chalk!\n \n\n\nWe welcome anyone and everyone to grab some chalk from the front desk and color/create to your heat’s content. The art will remain for one week (weather permitting) for the community to enjoy
URL:https://stignacelibrary.org/event/chalk-art-friday-9/
LOCATION:St. Ignace Public Library\, 110 W Spruce St\, St. Igance\, MI\, 49781\, United States
CATEGORIES:Adult,Children's Program,School Age,Teen,Tween
END:VEVENT
BEGIN:VEVENT
DTSTART;VALUE=DATE:20210723
DTEND;VALUE=DATE:20210724
DTSTAMP:20260421T191059
CREATED:20210604T152539Z
LAST-MODIFIED:20210604T152539Z
UID:4459-1626998400-1627084799@stignacelibrary.org
SUMMARY:Chalk Art Friday
DESCRIPTION:Chalk Art Fridays- Join us every Friday this Summer in creating art on our patio with chalk!\n \n\n\nWe welcome anyone and everyone to grab some chalk from the front desk and color/create to your heat’s content. The art will remain for one week (weather permitting) for the community to enjoy
URL:https://stignacelibrary.org/event/chalk-art-friday-8/
LOCATION:St. Ignace Public Library\, 110 W Spruce St\, St. Igance\, MI\, 49781\, United States
CATEGORIES:Adult,Children's Program,School Age,Teen,Tween
END:VEVENT
BEGIN:VEVENT
DTSTART;TZID=America/New_York:20210722T150000
DTEND;TZID=America/New_York:20210722T160000
DTSTAMP:20260421T191059
CREATED:20210629T202634Z
LAST-MODIFIED:20210629T202634Z
UID:4495-1626966000-1626969600@stignacelibrary.org
SUMMARY:LEGO Club
DESCRIPTION:The library will provide the LEGOs\, you provide the imagination.\n \nLEGO Club is open to anyone interested\, there is no need to sign up. You can work on your own creation or follow one of the building challenges provided.\n \nIf you have any LEGOs to spare\, please consider donating them to the LEGO club.\n \nThank you to the Friends of the Library for their generous purchase of LEGOS for this club.
URL:https://stignacelibrary.org/event/lego-club-2/
LOCATION:St. Ignace Public Library\, 110 W Spruce St\, St. Igance\, MI\, 49781\, United States
CATEGORIES:Children's Program,School Age,Teen,Tween
END:VEVENT
BEGIN:VEVENT
DTSTART;TZID=America/New_York:20210721T140000
DTEND;TZID=America/New_York:20210721T153000
DTSTAMP:20260421T191059
CREATED:20210511T200209Z
LAST-MODIFIED:20210727T185436Z
UID:4346-1626876000-1626881400@stignacelibrary.org
SUMMARY:Craft Club- Wood Slice Painting
DESCRIPTION:Join us for Craft Club every other Wednesday at 2:00 PM during the summer months as we explore different art medium\, crafts\, and projects. These crafts are easy to pick-up and have a completed project in no time! \nJoin us July 21 for Wood Slice Painting- follow along as we walk you through painting a Desert Starry Night painting on wood slices. \n 
URL:https://stignacelibrary.org/event/craft-club-wood-slice-painting/
LOCATION:St. Ignace Public Library\, 110 W Spruce St\, St. Igance\, MI\, 49781\, United States
CATEGORIES:Adult,Children's Program,School Age,Teen,Tween
END:VEVENT
BEGIN:VEVENT
DTSTART;TZID=America/New_York:20210720T170000
DTEND;TZID=America/New_York:20210720T180000
DTSTAMP:20260421T191059
CREATED:20210105T155436Z
LAST-MODIFIED:20210713T141818Z
UID:3666-1626800400-1626804000@stignacelibrary.org
SUMMARY:July Library Board Meeting
DESCRIPTION:The St. Ignace Library Board meeting will take place on July 13\, 2021 at 5:00 PM. The public is welcome to attend and participate in the meeting during public comment.
URL:https://stignacelibrary.org/event/july-library-board-meeting/
LOCATION:St. Ignace Public Library\, 110 W Spruce St\, St. Igance\, MI\, 49781\, United States
CATEGORIES:Board of Trustees
END:VEVENT
BEGIN:VEVENT
DTSTART;TZID=America/New_York:20210717T110000
DTEND;TZID=America/New_York:20210717T123000
DTSTAMP:20260421T191059
CREATED:20210618T204006Z
LAST-MODIFIED:20210618T204006Z
UID:4482-1626519600-1626525000@stignacelibrary.org
SUMMARY:Crafternoon at the Library-Mandala Rock Painting
DESCRIPTION:Join us for ‘Crafternoon at the Library’ where we dive into the art of mandala rock painting. We will take you through the entire process from prepping your rock to creating the perfect paint dots. \nThis is a free at your own pace event and all supplies will be provided.
URL:https://stignacelibrary.org/event/crafternoon-at-the-library-mandala-rock-painting/
LOCATION:St. Ignace Public Library\, 110 W Spruce St\, St. Igance\, MI\, 49781\, United States
CATEGORIES:Adult,Children's Program,School Age,Teen,Tween
END:VEVENT
BEGIN:VEVENT
DTSTART;TZID=America/New_York:20210716T103000
DTEND;TZID=America/New_York:20210716T110000
DTSTAMP:20260421T191059
CREATED:20210630T165135Z
LAST-MODIFIED:20210630T165135Z
UID:4517-1626431400-1626433200@stignacelibrary.org
SUMMARY:Toddler Storytime
DESCRIPTION:Join us for an interactive storytime and themed crafts in the Children’s Section on Friday’s at 10:30 AM.\n\n \nAges 2+\, but younger siblings are welcome to join.
URL:https://stignacelibrary.org/event/toddler-storytime-2/
LOCATION:St. Ignace Public Library\, 110 W Spruce St\, St. Igance\, MI\, 49781\, United States
CATEGORIES:Children's Program
END:VEVENT
BEGIN:VEVENT
DTSTART;TZID=America/New_York:20210716T103000
DTEND;TZID=America/New_York:20210716T110000
DTSTAMP:20260421T191059
CREATED:20210526T200004Z
LAST-MODIFIED:20210526T200004Z
UID:4431-1626431400-1626433200@stignacelibrary.org
SUMMARY:Outdoor Toddler Storytime
DESCRIPTION:Join us for an interactive storytime and themed crafts on the library patio every other Friday at 10:30 AM.\n\n \nAges 2+\, but younger siblings are welcome to join.
URL:https://stignacelibrary.org/event/outdoor-toddler-storytime-4/
LOCATION:St. Ignace Public Library\, 110 W Spruce St\, St. Igance\, MI\, 49781\, United States
CATEGORIES:Children's Program
END:VEVENT
END:VCALENDAR