BEGIN:VCALENDAR
VERSION:2.0
PRODID:-//St. Ignace Public Library - ECPv6.15.20//NONSGML v1.0//EN
CALSCALE:GREGORIAN
METHOD:PUBLISH
X-WR-CALNAME:St. Ignace Public Library
X-ORIGINAL-URL:https://stignacelibrary.org
X-WR-CALDESC:Events for St. Ignace Public Library
REFRESH-INTERVAL;VALUE=DURATION:PT1H
X-Robots-Tag:noindex
X-PUBLISHED-TTL:PT1H
BEGIN:VTIMEZONE
TZID:America/New_York
BEGIN:DAYLIGHT
TZOFFSETFROM:-0500
TZOFFSETTO:-0400
TZNAME:EDT
DTSTART:20200308T070000
END:DAYLIGHT
BEGIN:STANDARD
TZOFFSETFROM:-0400
TZOFFSETTO:-0500
TZNAME:EST
DTSTART:20201101T060000
END:STANDARD
BEGIN:DAYLIGHT
TZOFFSETFROM:-0500
TZOFFSETTO:-0400
TZNAME:EDT
DTSTART:20210314T070000
END:DAYLIGHT
BEGIN:STANDARD
TZOFFSETFROM:-0400
TZOFFSETTO:-0500
TZNAME:EST
DTSTART:20211107T060000
END:STANDARD
BEGIN:DAYLIGHT
TZOFFSETFROM:-0500
TZOFFSETTO:-0400
TZNAME:EDT
DTSTART:20220313T070000
END:DAYLIGHT
BEGIN:STANDARD
TZOFFSETFROM:-0400
TZOFFSETTO:-0500
TZNAME:EST
DTSTART:20221106T060000
END:STANDARD
END:VTIMEZONE
BEGIN:VEVENT
DTSTART;TZID=America/New_York:20210112T170000
DTEND;TZID=America/New_York:20210112T180000
DTSTAMP:20260423T202514
CREATED:20210105T153656Z
LAST-MODIFIED:20210112T172101Z
UID:3654-1610470800-1610474400@stignacelibrary.org
SUMMARY:January Library Board Meeting
DESCRIPTION:The St. Ignace Library Board meeting will take place on January 12\, 2021 at 5:00 PM via Zoom. The Library Board will be meeting on the online platform Zoom due to the global pandemic (Open Meetings Act – SB 1108). \nThe public is welcome to attend and participate in the meeting during public comment. Public may join the meeting via the internet or by telephone-either will allow you to attend and comment during the meeting.  \nCommentary or questions regarding agenda items may be sent to: alyciamc@uproc.lib.mi.us \nIf you have any accommodations needed to attend this meeting\, please call the library at 906-643-8318 or by email at alyciamc@uproc.lib.mi.us \nAgenda and connecting information 
URL:https://stignacelibrary.org/event/january-library-board-meeting/
LOCATION:Virtual
CATEGORIES:Board of Trustees
END:VEVENT
BEGIN:VEVENT
DTSTART;TZID=America/New_York:20210106T180000
DTEND;TZID=America/New_York:20210106T190000
DTSTAMP:20260423T202514
CREATED:20201216T164602Z
LAST-MODIFIED:20210105T160306Z
UID:3633-1609956000-1609959600@stignacelibrary.org
SUMMARY:Virtual Movement & Yoga
DESCRIPTION:Weekly movement & yoga classes online via Zoom. \n The 60-minute classes will take place on Wednesdays at 6 p.m. You must RSVP by texting Samantha Radecki at 231-622-3812\, emailing radecki.sam@gmail.com. \nJoin here: https://us02web.zoom.us/j/89578775264?pwd=bnhldy9oWTZrd0hPQVhJRVJDa1cvUT09  \nMeeting ID: 895 7877 5264. \nPasscode: 981375.  \nCLASSES HAVE EVOLVED. \nExpect a blend of calisthenics\, free movement & dance\, yoga postures\, meditation and of course\, savasana. We’ll begin with up-beat energizing music and movement to wake up the body\, build heat and feel\, then transition to soothing music\, deep stretches and yoga postures for relaxation and recovery. \nSET UP YOUR SPACE & TURN UP THE MUSIC. \nWear comfortable clothing. You may practice in sneakers or barefoot. Take 10-15 minutes prior to class to create your space as your sanctuary. Roll out your mat and place your blocks and blanket in an accessible place. Access each week’s class playlist on Spotify.  \nYOU ARE WELCOME HERE.  \nThis community yoga and wellness practice is supported by the St. Ignace Public Library. People of all races\, ethnicities\, gender identities\, sexual orientations\, ages\, etc.\, are welcome.
URL:https://stignacelibrary.org/event/virtual-movement-yoga-2/
LOCATION:Virtual
CATEGORIES:Adult
END:VEVENT
END:VCALENDAR